BEGIN:VCALENDAR
VERSION:2.0
PRODID:-//ChamberMaster//Event Calendar 2.0//EN
METHOD:PUBLISH
X-PUBLISHED-TTL:P3D
REFRESH-INTERVAL:P3D
CALSCALE:GREGORIAN
BEGIN:VEVENT
DTSTART:20260424T230000Z
DTEND:20260425T010000Z
X-MICROSOFT-CDO-ALLDAYEVENT:FALSE
SUMMARY:Earl David Reed – Stand Up Comedy
DESCRIPTION:Earl David Reed's genius is the way he interacts with the crowd and knowing just who to pick on to get the biggest laugh\, and the audience loves it! The Las Vegas Review-Journal called him " an urban Don Rickles!" And Don Rickles himself commented "This guy works the room like a Las Vegas showgirl funny without being offensive." His TV credits include The Tonight Show with Jay Leno\, HBO\, and Showtime. Earl can also be seen on DVD as one of Bill Engvall's All-Stars of Country Comedy comedians with Larry the Cable Guy and Jeff Foxworthy. Ages 18+.
X-ALT-DESC;FMTTYPE=text/html:Earl David Reed&rsquo\;s genius is the way he interacts with the crowd and knowing just who to pick on to get the biggest laugh\, and the audience loves it! The Las Vegas Review-Journal called him &ldquo\;&hellip\;an urban Don Rickles!&rdquo\; And Don Rickles himself commented &ldquo\;This guy works the room like a Las Vegas showgirl&hellip\;funny without being offensive.&rdquo\; His TV credits include The Tonight Show with Jay Leno\, HBO\, and Showtime. Earl can also be seen on DVD as one of Bill Engvall&rsquo\;s All-Stars of Country Comedy comedians with Larry the Cable Guy and Jeff Foxworthy. Ages 18+.
LOCATION:Eichelberger Performing Arts Center 195 Stock Street Hanover PA 17331
UID:e.1500.5723
SEQUENCE:3
DTSTAMP:20260423T194055Z
URL:http://business.mainstreethanover.org/events/details/earl-david-reed-stand-up-comedy-04-24-2026-5723
END:VEVENT

END:VCALENDAR
