BEGIN:VCALENDAR
VERSION:2.0
PRODID:-//ChamberMaster//Event Calendar 2.0//EN
METHOD:PUBLISH
X-PUBLISHED-TTL:P3D
REFRESH-INTERVAL:P3D
CALSCALE:GREGORIAN
BEGIN:VEVENT
DTSTART:20260423T110000Z
DTEND:20260425T210000Z
X-MICROSOFT-CDO-ALLDAYEVENT:FALSE
SUMMARY:Schmuck Lumber Ace Hardware GO BLUE Event for Adams County Children’s Advocacy Center
DESCRIPTION:Join us in supporting a great cause! From April 23 25\, we're participating in the GO BLUE campaign to benefit the Adams County Children's Advocacy Center. All proceeds from select plant sales will be donated!
X-ALT-DESC;FMTTYPE=text/html:Join us in supporting a great cause! From April 23&ndash\;25\, we&rsquo\;re participating in the GO BLUE campaign to benefit the Adams County Children&rsquo\;s Advocacy Center. All proceeds from select plant sales will be donated!
LOCATION:615 York Street\, Gettysburg\, PA
UID:e.1500.5920
SEQUENCE:3
DTSTAMP:20260423T194359Z
URL:http://business.mainstreethanover.org/events/details/schmuck-lumber-ace-hardware-go-blue-event-for-adams-county-children-s-advocacy-center-5920
END:VEVENT

END:VCALENDAR
