BEGIN:VCALENDAR
VERSION:2.0
PRODID:-//ChamberMaster//Event Calendar 2.0//EN
METHOD:PUBLISH
X-PUBLISHED-TTL:P3D
REFRESH-INTERVAL:P3D
CALSCALE:GREGORIAN
BEGIN:VEVENT
DTSTART:20161203T130000Z
DTEND:20161203T190000Z
X-MICROSOFT-CDO-ALLDAYEVENT:FALSE
SUMMARY:10th Annual Christmas Bazaar
DESCRIPTION:Shopping\, crafts\, music and food at the 10th Annual Christmas Bazaar at St. Paul Lutheran Church in Spring Grove!
X-ALT-DESC;FMTTYPE=text/html:Shopping\, crafts\, music and food at the 10th Annual Christmas Bazaar at St. Paul Lutheran Church in Spring Grove!
LOCATION:St. Paul Lutheran Church 201 S. Main Street\, Spring Grove
UID:e.1500.2285
SEQUENCE:3
DTSTAMP:20260422T003006Z
URL:https://business.mainstreethanover.org/events/details/10th-annual-christmas-bazaar-2285
END:VEVENT

END:VCALENDAR
