BEGIN:VCALENDAR
VERSION:2.0
PRODID:-//ChamberMaster//Event Calendar 2.0//EN
METHOD:PUBLISH
X-PUBLISHED-TTL:P3D
REFRESH-INTERVAL:P3D
CALSCALE:GREGORIAN
BEGIN:VEVENT
DTSTART:20180704T220000Z
DTEND:20180704T233000Z
X-MICROSOFT-CDO-ALLDAYEVENT:FALSE
SUMMARY:10th Annual Summer Lawn Concert
DESCRIPTION:Summertime Music is Breezy\n\n Come and see the Hanover Lyric Band .\n\nRefreshments & pre-concert entertainment begins at 6 p.m. Concerts from 6:30- 7:30 p.m.\n\n\n\nGenerous Concert Sponsors:\n\nHanover Auto Team\n\nToyota-Missan-VW \n\nLots for Less\n\nTurkey HIll\n\nUTZ Quality Foods LLC.
X-ALT-DESC;FMTTYPE=text/html:Summertime Music is Breezy<br />\n&#8203\;Come and see the Hanover Lyric Band .<br />\nRefreshments &amp\; pre-concert entertainment begins at 6 p.m. Concerts from 6:30- 7:30 p.m.<br />\n<br />\nGenerous Concert Sponsors:<br />\nHanover Auto Team<br />\nToyota-Missan-VW&nbsp\;<br />\nLots for Less<br />\nTurkey HIll<br />\nUTZ Quality Foods LLC.
LOCATION:Warehime-Myers Mansion
UID:e.1500.4212
SEQUENCE:3
DTSTAMP:20260420T201243Z
URL:https://business.mainstreethanover.org/events/details/10th-annual-summer-lawn-concert-4212
END:VEVENT

END:VCALENDAR
