BEGIN:VCALENDAR
VERSION:2.0
PRODID:-//ChamberMaster//Event Calendar 2.0//EN
METHOD:PUBLISH
X-PUBLISHED-TTL:P3D
REFRESH-INTERVAL:P3D
CALSCALE:GREGORIAN
BEGIN:VEVENT
DTSTART:20161022T130000Z
DTEND:20161022T160000Z
X-MICROSOFT-CDO-ALLDAYEVENT:FALSE
SUMMARY:14th Annual Heritage/ERA 5K Run/Walk for Muscular Dystrophy at Hillside Medical Center
DESCRIPTION:Hillside Medical Center announces the 13th Annual Heritage/ERA Preferred Properties Run/Walk for Muscular Dystrophy\, a 5K event which will take place rain or shine\, at 9 a.m.\, Saturday\, October 22\, at the Hillside Medical Center\, 250 Fame Avenue\, Hanover. \n\n \n\nRegistration for the 5K begins at 8 a.m.\, with the run and walk following at 9 a.m. \n\n \n\n\n\n                                                                               \n\nRunners and walkers will not only be improving their own health\, but also contributing to an important charitable cause   the Muscular Dystrophy Association.   Certified Athletic Trainers from Hanover Rehab Centers will be available to provide medical assistance if needed.  Refreshments will be available following the race.\n\n               \n\nCorporate as well as individual awards will be presented.  Trophies will be awarded to the first three overall male and female finishers\, as well as medals to the first three finishers in each age group.
X-ALT-DESC;FMTTYPE=text/html:Hillside Medical Center announces the 13th Annual Heritage/ERA Preferred Properties Run/Walk for Muscular Dystrophy\, a 5K event which will take place rain or shine\, at 9 a.m.\, Saturday\, October 22\, at the Hillside Medical Center\, 250 Fame Avenue\, Hanover.&nbsp\;<br />\n&nbsp\;<br />\nRegistration for the 5K begins at 8 a.m.\, with the run and walk following at 9 a.m.&nbsp\;<br />\n&nbsp\;<br />\n<br />\n&nbsp\;&nbsp\;&nbsp\;&nbsp\;&nbsp\;&nbsp\;&nbsp\;&nbsp\;&nbsp\;&nbsp\;&nbsp\;&nbsp\;&nbsp\;&nbsp\;&nbsp\;&nbsp\;&nbsp\;&nbsp\;&nbsp\;&nbsp\;&nbsp\;&nbsp\;&nbsp\;&nbsp\;&nbsp\;&nbsp\;&nbsp\;&nbsp\;&nbsp\;&nbsp\;&nbsp\;&nbsp\;&nbsp\;&nbsp\;&nbsp\;&nbsp\;&nbsp\;&nbsp\;&nbsp\;&nbsp\;&nbsp\;&nbsp\;&nbsp\;&nbsp\;&nbsp\;&nbsp\;&nbsp\;&nbsp\;&nbsp\;&nbsp\;&nbsp\;&nbsp\;&nbsp\;&nbsp\;&nbsp\;&nbsp\;&nbsp\;&nbsp\;&nbsp\;&nbsp\;&nbsp\;&nbsp\;&nbsp\;&nbsp\;&nbsp\;&nbsp\;&nbsp\;&nbsp\;&nbsp\;&nbsp\;&nbsp\;&nbsp\;&nbsp\;&nbsp\;&nbsp\;&nbsp\;&nbsp\;&nbsp\;&nbsp\;<br />\nRunners and walkers will not only be improving their own health\, but also contributing to an important charitable cause &ndash\; the Muscular Dystrophy Association.&nbsp\;&nbsp\; Certified Athletic Trainers from Hanover Rehab Centers will be available to provide medical assistance if needed.&nbsp\; Refreshments will be available following the race.<br />\n&nbsp\;&nbsp\;&nbsp\;&nbsp\;&nbsp\;&nbsp\;&nbsp\;&nbsp\;&nbsp\;&nbsp\;&nbsp\;&nbsp\;&nbsp\;&nbsp\;&nbsp\;<br />\nCorporate as well as individual awards will be presented.&nbsp\; Trophies will be awarded to the first three overall male and female finishers\, as well as medals to the first three finishers in each age group. &nbsp\;
LOCATION:Hillside Medical Center 250 Fame Avenue\, Hanover.
UID:e.1500.1213
SEQUENCE:3
DTSTAMP:20260422T040248Z
URL:https://business.mainstreethanover.org/events/details/14th-annual-heritage-era-5k-run-walk-for-muscular-dystrophy-at-hillside-medical-center-10-22-2016-1213
END:VEVENT

END:VCALENDAR
