BEGIN:VCALENDAR
VERSION:2.0
PRODID:-//ChamberMaster//Event Calendar 2.0//EN
METHOD:PUBLISH
X-PUBLISHED-TTL:P3D
REFRESH-INTERVAL:P3D
CALSCALE:GREGORIAN
BEGIN:VEVENT
DTSTART:20180413T230000Z
DTEND:20180414T030000Z
X-MICROSOFT-CDO-ALLDAYEVENT:FALSE
SUMMARY:19th Annual Evening of Comedy & Magic presented by Exchange Club of Hanover
DESCRIPTION:Magic\, comedy\, fun\, laughs
X-ALT-DESC;FMTTYPE=text/html:Magic\, comedy\, fun\, laughs
LOCATION:Eichelberger Performing Arts Center\, Hanover\, PA
UID:e.1500.4166
SEQUENCE:3
DTSTAMP:20260420T234117Z
URL:https://business.mainstreethanover.org/events/details/19th-annual-evening-of-comedy-magic-presented-by-exchange-club-of-hanover-4166
END:VEVENT

END:VCALENDAR
