BEGIN:VCALENDAR
VERSION:2.0
PRODID:-//ChamberMaster//Event Calendar 2.0//EN
METHOD:PUBLISH
X-PUBLISHED-TTL:P3D
REFRESH-INTERVAL:P3D
CALSCALE:GREGORIAN
BEGIN:VEVENT
DTSTART;VALUE=DATE:20150503
DTEND;VALUE=DATE:20150504
TRANSP:TRANSPARENT
X-MICROSOFT-CDO-ALLDAYEVENT:TRUE
SUMMARY:2015 Best and Brightest Program
DESCRIPTION:Please join us for the 2015 Best and Brightest Program at South Western High School
X-ALT-DESC;FMTTYPE=text/html:Please join us for the 2015 Best and Brightest Program at South Western High School
LOCATION:South Western High School
UID:e.1500.770
SEQUENCE:3
DTSTAMP:20260423T054203Z
URL:https://business.mainstreethanover.org/events/details/2015-best-and-brightest-program-05-03-2015-770
END:VEVENT

END:VCALENDAR
