BEGIN:VCALENDAR
VERSION:2.0
PRODID:-//ChamberMaster//Event Calendar 2.0//EN
METHOD:PUBLISH
X-PUBLISHED-TTL:P3D
REFRESH-INTERVAL:P3D
CALSCALE:GREGORIAN
BEGIN:VEVENT
DTSTART:20161103T210000Z
DTEND:20161103T230000Z
X-MICROSOFT-CDO-ALLDAYEVENT:FALSE
SUMMARY:2016 Hanover Business Awards
DESCRIPTION:Small Business\, Entrepreneur\, Positive Action and Educators of the Year awards recipients will be named this evening!  We will also honor member anniversaries\, and recognize our volunteers and Chamber ambassadors.  Join us to celebrate fellow Chamber members\, socialize\, and enjoy a special evening out. \n\n\n\n\n\nSponsored by:\n\nHanover Hospital\n\nAPPI Energy
X-ALT-DESC;FMTTYPE=text/html:<span style="line-height: 18.9091px\;">Small Business\, Entrepreneur\, Positive Action and Educators of the Year awards recipients will be named this evening! &nbsp\;We will also honor member anniversaries\, and recognize our volunteers and Chamber ambassadors. &nbsp\;Join us to celebrate fellow Chamber members\, socialize\, and enjoy a special evening out.&nbsp\;</span><br style="line-height: 20.8px\;" />\n<br style="line-height: 18.9091px\;" />\n<br style="line-height: 18.9091px\;" />\n<span style="font-size: 20px\;"><strong><u>Sponsored by:</u></strong><br />\n<em><strong>Hanover Hospital<br />\nAPPI&nbsp\;Energy</strong></em></span>
LOCATION:Bay City Restaurant 110 Eisenhower Drive\, Hanover
UID:e.1500.1211
SEQUENCE:3
DTSTAMP:20260422T021805Z
URL:https://business.mainstreethanover.org/events/details/2016-hanover-business-awards-11-03-2016-1211
END:VEVENT

END:VCALENDAR
