BEGIN:VCALENDAR
VERSION:2.0
PRODID:-//ChamberMaster//Event Calendar 2.0//EN
METHOD:PUBLISH
X-PUBLISHED-TTL:P3D
REFRESH-INTERVAL:P3D
CALSCALE:GREGORIAN
BEGIN:VEVENT
DTSTART:20170602T200000Z
DTEND:20170603T000000Z
X-MICROSOFT-CDO-ALLDAYEVENT:FALSE
SUMMARY:2017 Car Show Series
DESCRIPTION:Save the date for The Markets at Hanover 2017 Car Show Series! Registration opens inside The Markets at 4:00 PM. Car Show from 5:00 to 8:00 PM. People's Choice voting ends at 7:00 PM. Trophy presentations at 7:30 PM. More details coming soon!
X-ALT-DESC;FMTTYPE=text/html:<span style="color: rgb(29\, 33\, 41)\; font-family: Helvetica\, Arial\, sans-serif\; font-size: 14px\;">Save the date for The Markets at Hanover 2017 Car Show Series! Registration opens inside The Markets at 4:00 PM. Car Show from 5:00 to 8:00 PM. People&#39\;s Choice voting ends at 7:00 PM. Trophy presentations at 7:30 PM. More details coming soon!</span>
LOCATION:The Markets at Hanover
UID:e.1500.2940
SEQUENCE:3
DTSTAMP:20260421T165947Z
URL:https://business.mainstreethanover.org/events/details/2017-car-show-series-2940
END:VEVENT

END:VCALENDAR
