BEGIN:VCALENDAR
VERSION:2.0
PRODID:-//ChamberMaster//Event Calendar 2.0//EN
METHOD:PUBLISH
X-PUBLISHED-TTL:P3D
REFRESH-INTERVAL:P3D
CALSCALE:GREGORIAN
BEGIN:VEVENT
DTSTART:20170705T220000Z
DTEND:20170705T233000Z
X-MICROSOFT-CDO-ALLDAYEVENT:FALSE
SUMMARY:2017 Lawn Concerts at the Mansion
DESCRIPTION:2017 Lawn Concerts at the Mansion: :Lyric Band (patriotic tribute)\n\nThis summer visit the 9th summer of outdoor community concerts\, entitled Summer Memories\, on the lawn of the Warehime-Myers Mansion!
X-ALT-DESC;FMTTYPE=text/html:2017 Lawn Concerts at the Mansion: :Lyric Band (patriotic tribute)<br />\nThis summer visit the 9th summer of outdoor community concerts\, entitled Summer Memories\, on the lawn of the Warehime-Myers Mansion!
LOCATION:Warehime- Myers Mansion 305 Baltimore St\, Hanover\, PA 17331
UID:e.1500.2932
SEQUENCE:3
DTSTAMP:20260421T153909Z
URL:https://business.mainstreethanover.org/events/details/2017-lawn-concerts-at-the-mansion-2932
END:VEVENT

END:VCALENDAR
