BEGIN:VCALENDAR
VERSION:2.0
PRODID:-//ChamberMaster//Event Calendar 2.0//EN
METHOD:PUBLISH
X-PUBLISHED-TTL:P3D
REFRESH-INTERVAL:P3D
CALSCALE:GREGORIAN
BEGIN:VEVENT
DTSTART:20181006T130000Z
DTEND:20181006T210000Z
X-MICROSOFT-CDO-ALLDAYEVENT:FALSE
SUMMARY:2018 Women's Show
DESCRIPTION:UPMC Pinnacle presents The Froggy 107.7/Rocky 98.5 Women's Show\, October 6 & 7 at the York Expo Center. Its two days of shopping\, wine tastings\, entertainment\, exhibits\, education\, and more! All specifically geared to the interests of today's women.\n\n\n\nHours are 9 a.m. to 5 p.m. Saturday and 11 a.m. to 5 p.m. Sunday. For more information\, visit www.ForeverYork.com or call 717-637-3831.\n\n\n\nAdmission is $4\, or FREE with Weis Markets Preferred Shopper's Club Card OR E-Ticket (online at ForeverYork.com).
X-ALT-DESC;FMTTYPE=text/html:<span style="color:#555555"><span style="font-family:helvetica"><span style="font-size:10.5pt">UPMC Pinnacle presents The</span></span></span>&nbsp\;<span style="color:#555555"><span style="font-family:helvetica"><span style="font-size:10.5pt">Froggy 107.7/Rocky 98.5 Women</span></span></span><span style="color:#555555"><span style="font-size:10.5pt">&rsquo\;</span></span><span style="color:#555555"><span style="font-family:helvetica"><span style="font-size:10.5pt">s Show\, October 6 &amp\; 7 at the York Expo Center. It</span></span></span><span style="color:#555555"><span style="font-size:10.5pt">s</span></span><span style="color:#555555"><span style="font-family:helvetica"><span style="font-size:10.5pt"> two days of shopping\, wine tastings\, entertainment\, exhibits\, education\, and more! All specifically geared to the interests of today&rsquo\;s women.<br />\n<br />\nHours are 9 a.m. to 5 p.m. Saturday and 11 a.m. to 5 p.m. Sunday. For more information\, visit www.ForeverYork.com</span></span></span>&nbsp\;<span style="color:#555555"><span style="font-family:helvetica"><span style="font-size:10.5pt">or call 717-637-3831.</span></span></span><br />\n<br />\n<span style="color:#555555"><span style="font-family:helvetica"><span style="font-size:10.5pt">Admission is $4\, or FREE with Weis Markets Preferred Shopper</span></span></span><span style="color:#555555"><span style="font-size:10.5pt">&rsquo\;</span></span><span style="color:#555555"><span style="font-family:helvetica"><span style="font-size:10.5pt">s Club Card OR E-Ticket (online at ForeverYork.com).</span></span></span>
LOCATION:The Mid Atlantic Industrial Memorial Hall\, York Expo Center\, 334 Carlisle Avenue\, York\, PA 17404.
UID:e.1500.4182
SEQUENCE:3
DTSTAMP:20260420T150534Z
URL:https://business.mainstreethanover.org/events/details/2018-women-s-show-4182
END:VEVENT

END:VCALENDAR
