BEGIN:VCALENDAR
VERSION:2.0
PRODID:-//ChamberMaster//Event Calendar 2.0//EN
METHOD:PUBLISH
X-PUBLISHED-TTL:P3D
REFRESH-INTERVAL:P3D
CALSCALE:GREGORIAN
BEGIN:VEVENT
DTSTART:20181001T140000Z
DTEND:20181001T220000Z
X-MICROSOFT-CDO-ALLDAYEVENT:FALSE
SUMMARY:20th Anniversary Wine Release
DESCRIPTION:One of our favorite wines of the past will be returning in celebration of John and Katherine's purchase of the winery 20 years ago
X-ALT-DESC;FMTTYPE=text/html:One of our favorite wines of the past will be returning in celebration of John and Katherine&rsquo\;s purchase of the winery 20 years ago
LOCATION:Adams County Winery 251 Peach Tree Rd. Orrtanna\, PA 17353
UID:e.1500.4209
SEQUENCE:3
DTSTAMP:20260420T132207Z
URL:https://business.mainstreethanover.org/events/details/20th-anniversary-wine-release-4209
END:VEVENT

END:VCALENDAR
