BEGIN:VCALENDAR
VERSION:2.0
PRODID:-//ChamberMaster//Event Calendar 2.0//EN
METHOD:PUBLISH
X-PUBLISHED-TTL:P3D
REFRESH-INTERVAL:P3D
CALSCALE:GREGORIAN
BEGIN:VEVENT
DTSTART:20160818T180000Z
DTEND:20160819T020000Z
X-MICROSOFT-CDO-ALLDAYEVENT:FALSE
SUMMARY:20th Annual FORE Children Golf Benefit Fundraiser
DESCRIPTION:The golf tournament is a 4 Person Scramble with a 2:00 PM shotgun start followed by dinner and Awards Ceremony at the Club House..
X-ALT-DESC;FMTTYPE=text/html:<span style="font-size:14px\;"><span style="font-family:times new roman\;">The golf tournament is a 4 Person Scramble with a 2:00 PM shotgun start followed by dinner and Awards Ceremony at the Club House.. &nbsp\;</span></span>
LOCATION:Hanover Country Club 200 East Water St. Abbottstown\, PA 17301
UID:e.1500.1167
SEQUENCE:3
DTSTAMP:20260422T084215Z
URL:https://business.mainstreethanover.org/events/details/20th-annual-fore-children-golf-benefit-fundraiser-08-18-2016-1167
END:VEVENT

END:VCALENDAR
