BEGIN:VCALENDAR
VERSION:2.0
PRODID:-//ChamberMaster//Event Calendar 2.0//EN
METHOD:PUBLISH
X-PUBLISHED-TTL:P3D
REFRESH-INTERVAL:P3D
CALSCALE:GREGORIAN
BEGIN:VEVENT
DTSTART:20150620T130000Z
DTEND:20150620T190000Z
X-MICROSOFT-CDO-ALLDAYEVENT:FALSE
SUMMARY:20th Annual Museum CARnival Car Show
DESCRIPTION:Saturday\, June 20\, 2015\n\n9 am to 3 pm (Vehicle Registration 8 am to 12 noon)\n\nJoin us for a fun filled day including a Car Show open to all makes\, models and years of vehicles\; 50/50 Drawing\, Raffle Prizes\, Live Entertainment\, Valve Cover Racing & More!!\n\nOur featured exhibit this year will be A Family Affair: Station Wagons. A great chance to reminisce about the good old days.\n\nWe will also be having Valve Cover Racing:\n\nPractice all day until 1 pm   then race against other guests   FREE this year!\n\nWhat's a valve cover race?\n\nThink Pine Wood derby for automotive enthusiasts. Take your favorite valve cover\, add wheels\, and go racing. Is a Buick staight 8 valve cover faster than a Chevy\, Studebaker\, Ford\, Chrysler or flat head side cover? Bring yours to the Car Show and find out. If you do not have a valve cover to race\, we have valve covers available to borrow!\n\nCar Show Admission Free for all guests! Show Car Fees are as follows: $10 Pre-registration\, $15 Day of registration\, and $25 for Flea Market spaces
X-ALT-DESC;FMTTYPE=text/html:<p style="margin: 0in 0in 0.0001pt\; line-height: 115%\; vertical-align: baseline\; background-image: initial\; background-attachment: initial\; background-size: initial\; background-origin: initial\; background-clip: initial\; background-position: initial\; background-repeat: initial\;"><strong><span style="font-size: 10.5pt\; line-height: 115%\; font-family: Arial\, sans-serif\; color: rgb(28\, 28\, 28)\; border: 1pt none windowtext\; padding: 0in\; background-image: initial\; background-attachment: initial\; background-size: initial\; background-origin: initial\; background-clip: initial\; background-position: initial\; background-repeat: initial\;">Saturday\, June 20\, 2015</span></strong><br />\n<strong style="outline: 0px\;"><span style="font-size: 10.5pt\; line-height: 115%\; font-family: Arial\, sans-serif\; color: rgb(28\, 28\, 28)\; border: 1pt none windowtext\; padding: 0in\; background-image: initial\; background-attachment: initial\; background-size: initial\; background-origin: initial\; background-clip: initial\; background-position: initial\; background-repeat: initial\;">9 am to 3 pm (Vehicle Registration 8 am to 12 noon)</span></strong><span style="font-size:10.5pt\;\nline-height:115%\;font-family:&quot\;Arial&quot\;\,sans-serif\;color:black\;mso-themecolor:\ntext1"><o:p></o:p></span></p>\n\n<p style="margin: 0in 0in 0.0001pt\; line-height: 115%\; vertical-align: baseline\; background-image: initial\; background-attachment: initial\; background-size: initial\; background-origin: initial\; background-clip: initial\; background-position: initial\; background-repeat: initial\;"><span style="font-size:10.5pt\;line-height:115%\;\nfont-family:&quot\;Arial&quot\;\,sans-serif\;color:black\;mso-themecolor:text1">Join us for a fun filled day including a Car Show open to all makes\, models and years of vehicles\; 50/50 Drawing\, Raffle Prizes\, Live Entertainment\, Valve Cover Racing &amp\; More!!<o:p></o:p></span></p>\n\n<p style="margin: 0in 0in 0.0001pt\; line-height: 115%\; vertical-align: baseline\; background-image: initial\; background-attachment: initial\; background-size: initial\; background-origin: initial\; background-clip: initial\; background-position: initial\; background-repeat: initial\;"><span style="font-size:10.5pt\;line-height:115%\;\nfont-family:&quot\;Arial&quot\;\,sans-serif\;color:black\;mso-themecolor:text1">Our featured exhibit this year will be A Family Affair: Station Wagons. A great chance to reminisce about the good old days.<o:p></o:p></span></p>\n\n<p style="margin: 0in 0in 0.0001pt\; line-height: 115%\; vertical-align: baseline\; background-image: initial\; background-attachment: initial\; background-size: initial\; background-origin: initial\; background-clip: initial\; background-position: initial\; background-repeat: initial\;"><span style="font-size:10.5pt\;line-height:115%\;\nfont-family:&quot\;Arial&quot\;\,sans-serif\;color:black\;mso-themecolor:text1">We will also be having Valve Cover Racing:<o:p></o:p></span></p>\n\n<p style="margin: 0in 0in 0.0001pt\; line-height: 115%\; vertical-align: baseline\; background-image: initial\; background-attachment: initial\; background-size: initial\; background-origin: initial\; background-clip: initial\; background-position: initial\; background-repeat: initial\;"><span style="font-size:10.5pt\;line-height:115%\;\nfont-family:&quot\;Arial&quot\;\,sans-serif\;color:black\;mso-themecolor:text1">Practice all day until 1 pm &ndash\; then race against other guests &ndash\; FREE this year!<o:p></o:p></span></p>\n\n<p style="margin: 0in 0in 0.0001pt\; line-height: 115%\; vertical-align: baseline\; background-image: initial\; background-attachment: initial\; background-size: initial\; background-origin: initial\; background-clip: initial\; background-position: initial\; background-repeat: initial\;"><span style="font-size:10.5pt\;line-height:115%\;\nfont-family:&quot\;Arial&quot\;\,sans-serif\;color:black\;mso-themecolor:text1">What&rsquo\;s a valve cover race?<br />\nThink Pine Wood derby for automotive enthusiasts. Take your favorite valve cover\, add wheels\, and go racing. Is a Buick staight 8 valve cover faster than a Chevy\, Studebaker\, Ford\, Chrysler or flat head side cover? Bring yours to the Car Show and find out. If you do not have a valve cover to race\, we have valve covers available to borrow!<o:p></o:p></span></p>\n\n<p class="Default"><span style="font-size: 10.5pt\; font-family: Arial\, sans-serif\; color: black\; background-image: initial\; background-attachment: initial\; background-size: initial\; background-origin: initial\; background-clip: initial\; background-position: initial\; background-repeat: initial\;">Car Show Admission Free for all guests! Show Car Fees are as follows: $10 Pre-registration\, $15 Day of registration\, and $25 for Flea Market spaces&nbsp\;</span><o:p></o:p></p>\n
LOCATION:AACA Museum 161 Museum Drive Hershey\, PA 17033
UID:e.1500.860
SEQUENCE:3
DTSTAMP:20260423T040902Z
URL:https://business.mainstreethanover.org/events/details/20th-annual-museum-carnival-car-show-06-20-2015-860
END:VEVENT

END:VCALENDAR
