BEGIN:VCALENDAR
VERSION:2.0
PRODID:-//ChamberMaster//Event Calendar 2.0//EN
METHOD:PUBLISH
X-PUBLISHED-TTL:P3D
REFRESH-INTERVAL:P3D
CALSCALE:GREGORIAN
BEGIN:VEVENT
DTSTART:20160904T150000Z
DTEND:20160904T210000Z
X-MICROSOFT-CDO-ALLDAYEVENT:FALSE
SUMMARY:21st Annual Hanover Chili Cook Off
DESCRIPTION:This event has become a staple for family entertainment\, chili tasting and fundraising for local nonprofit organizations\, all built around the ICS PA State Chili Cooking Championship.The day's events will include live music. A magician\, a juggler\, a face painter and many varieties of chili\, along with many supporting vendors will be on display. Not to mention good food and beverage concessions too!
X-ALT-DESC;FMTTYPE=text/html:<p>This event has become a staple for family entertainment\, chili tasting and fundraising for local nonprofit organizations\, all built around the ICS PA State Chili Cooking Championship.The day&rsquo\;s events will include live music. A magician\, a juggler\, a face painter and many varieties of chili\, along with many supporting vendors will be on display. Not to mention good food and beverage concessions too!</p>\n
LOCATION:Good Field N. Forney Ave.
UID:e.1500.1128
SEQUENCE:3
DTSTAMP:20260422T071419Z
URL:https://business.mainstreethanover.org/events/details/21st-annual-hanover-chili-cook-off-09-04-2016-1128
END:VEVENT

END:VCALENDAR
