BEGIN:VCALENDAR
VERSION:2.0
PRODID:-//ChamberMaster//Event Calendar 2.0//EN
METHOD:PUBLISH
X-PUBLISHED-TTL:P3D
REFRESH-INTERVAL:P3D
CALSCALE:GREGORIAN
BEGIN:VEVENT
DTSTART:20160423T193000Z
DTEND:20160424T010000Z
X-MICROSOFT-CDO-ALLDAYEVENT:FALSE
SUMMARY:2nd Annual BINGO
DESCRIPTION:Proceeds benefit TrueNorth Wellness Services' Amazing Kids Club.
X-ALT-DESC;FMTTYPE=text/html:Proceeds benefit <strong>TrueNorth Wellness Services&#39\; Amazing Kids Club.</strong>
LOCATION:New Oxford Social Club\, 200 W. Golden Ln.\, New Oxford\, PA 17350
UID:e.1500.1104
SEQUENCE:3
DTSTAMP:20260422T143150Z
URL:https://business.mainstreethanover.org/events/details/2nd-annual-bingo-04-23-2016-1104
END:VEVENT

END:VCALENDAR
