BEGIN:VCALENDAR
VERSION:2.0
PRODID:-//ChamberMaster//Event Calendar 2.0//EN
METHOD:PUBLISH
X-PUBLISHED-TTL:P3D
REFRESH-INTERVAL:P3D
CALSCALE:GREGORIAN
BEGIN:VEVENT
DTSTART:20150829T163000Z
DTEND:20150829T210000Z
X-MICROSOFT-CDO-ALLDAYEVENT:FALSE
SUMMARY:2nd Annual Hoffman Homes for Youth Corn Toss Tournament
DESCRIPTION:Come join Hoffman Homes for Youth (a nonprofit residential psychiatric treatment facility for youth ages 6-18 located in Littlestown\, PA) for our 2nd Annual Corn Toss Tournament. Teams of two can register for $50.00. Registration includes t-shirt\, food\, beverages\, entertainment and a chance to win prizes. All proceeds will benefit the children at Hoffman Homes! For more information\, register a team or sponsor the event\, please contact Brittanee Varano.
X-ALT-DESC;FMTTYPE=text/html:Come join Hoffman Homes for Youth (a nonprofit residential psychiatric treatment facility for youth ages 6-18 located in Littlestown\, PA) for our 2nd Annual Corn Toss Tournament. Teams of two can register for $50.00. Registration includes t-shirt\, food\, beverages\, entertainment and a chance to win prizes. All proceeds will benefit the children at Hoffman Homes! For more information\, register a team or sponsor the event\, please contact Brittanee Varano.
LOCATION:The Mill 4797 York Road New Oxford\, PA 17350
UID:e.1500.943
SEQUENCE:3
DTSTAMP:20260423T005434Z
URL:https://business.mainstreethanover.org/events/details/2nd-annual-hoffman-homes-for-youth-corn-toss-tournament-08-29-2015-943
END:VEVENT

END:VCALENDAR
