BEGIN:VCALENDAR
VERSION:2.0
PRODID:-//ChamberMaster//Event Calendar 2.0//EN
METHOD:PUBLISH
X-PUBLISHED-TTL:P3D
REFRESH-INTERVAL:P3D
CALSCALE:GREGORIAN
BEGIN:VEVENT
DTSTART:20160807T180000Z
DTEND:20160807T200000Z
X-MICROSOFT-CDO-ALLDAYEVENT:FALSE
SUMMARY:2nd Annual Open Art Exhibit
DESCRIPTION:Nearly 200 pieces of art are included in the 2nd Annual Open Exhibit\, sponsored by the Hanover Area Arts Guild. A reception for artists\, family and the community is planned 2-4 p.m. Aug. 7\, in the Art Downtown Gallery\, 32 Carlisle St.\, Hanover. It is free and open to the public. Awards and a gallery talk by the judge will be presented at that time. The art is being judged in five categories\, with $2\,100 in cash prizes being awarded.
X-ALT-DESC;FMTTYPE=text/html:Nearly 200 pieces of art are included in the 2nd Annual Open Exhibit\, sponsored by the Hanover Area Arts Guild. A reception for artists\, family and the community is planned 2-4 p.m. Aug. 7\, in the Art Downtown Gallery\, 32 Carlisle St.\, Hanover. It is free and open to the public. Awards and a gallery talk by the judge will be presented at that time. The art is being judged in five categories\, with $2\,100 in cash prizes being awarded.
LOCATION:32 Carlisle St. Hanover\, Pa.
UID:e.1500.1203
SEQUENCE:3
DTSTAMP:20260422T070349Z
URL:https://business.mainstreethanover.org/events/details/2nd-annual-open-art-exhibit-08-07-2016-1203
END:VEVENT

END:VCALENDAR
