BEGIN:VCALENDAR
VERSION:2.0
PRODID:-//ChamberMaster//Event Calendar 2.0//EN
METHOD:PUBLISH
X-PUBLISHED-TTL:P3D
REFRESH-INTERVAL:P3D
CALSCALE:GREGORIAN
BEGIN:VEVENT
DTSTART:20180312T140000Z
DTEND:20180312T230000Z
X-MICROSOFT-CDO-ALLDAYEVENT:FALSE
SUMMARY:37th Annual School Student Show
DESCRIPTION:Artwork from 10 area schools is on display today at Art Downtown for the 37th Annual School Student Show. Each school displays approximately 20 pieces of its best work   paintings\, drawings and 3-D sculpture. Sixth-graders to high school seniors are involved in the show\, a favorite of members of the Hanover Area Arts Guild\, which sponsors the event. The exhibit can be seen during regular gallery hours   10 a.m.-5 p.m. Tuesday-Thursday\, 10 a.m.-7 p.m. Friday and 10 a.m.-3 p.m. Saturday. The gallery is always free. A reception is planned for students\, families and the community 1-3 p.m. Sunday\, March 11\, to celebrate the show.
X-ALT-DESC;FMTTYPE=text/html:Artwork from 10 area schools is on display today at Art Downtown for the 37<sup>th</sup> Annual School Student Show. Each school displays approximately 20 pieces of its best work &mdash\; paintings\, drawings and 3-D sculpture. Sixth-graders to high school seniors are involved in the show\, a favorite of members of the Hanover Area Arts Guild\, which sponsors the event. The exhibit can be seen during regular gallery hours &mdash\; 10 a.m.-5 p.m. Tuesday-Thursday\, 10 a.m.-7 p.m. Friday and 10 a.m.-3 p.m. Saturday. The gallery is always free. A reception is planned for students\, families and the community 1-3 p.m. Sunday\, March 11\, to celebrate the show.<br />\n&nbsp\;
LOCATION:Art Downtown 32 Carlisle St. Hanover\, Pa. 17331
UID:e.1500.4188
SEQUENCE:3
DTSTAMP:20260421T025333Z
URL:https://business.mainstreethanover.org/events/details/37th-annual-school-student-show-03-12-2018-4188
END:VEVENT

END:VCALENDAR
