BEGIN:VCALENDAR
VERSION:2.0
PRODID:-//ChamberMaster//Event Calendar 2.0//EN
METHOD:PUBLISH
X-PUBLISHED-TTL:P3D
REFRESH-INTERVAL:P3D
CALSCALE:GREGORIAN
BEGIN:VEVENT
DTSTART;VALUE=DATE:20180116
DTEND;VALUE=DATE:20180204
TRANSP:TRANSPARENT
X-MICROSOFT-CDO-ALLDAYEVENT:TRUE
SUMMARY:50 Years in Hanover
DESCRIPTION:The Hanover Area Arts Guild is kicking off its yearlong 50th anniversary celebration with a special exhibit this January.\n\n \n\nThe show featuring paintings and photos depicting "50" or "Hanover." It continues through Feb. 3 at Art Downtown\, the gallery of the Arts Guild\, 32 Carlisle St.\, in downtown Hanover.\n\n \n\nThe exhibit can be seen during regular gallery hours\, 10 a.m.-5 p.m. Tuesday-Thursday\, 10 a.m.-7 p.m. Friday and 10 a.m.-7 p.m. Saturday. As always\, the gallery is free.\n\n \n\nThe Arts Guild was formed in 1968 by a handful of artisans in Hanover and now owns a gallery on Carlisle Street\, just steps off the Square. In addition to monthly shows\, the Arts Guild also offers classes\, maintains a library of arts books and is active on social media. Annually\, the Arts Guild awards a scholarship to an artist graduating from high school who wants to continue in an arts field.\n\n \n\nAmong the larger shows at the gallery are the Open Show\, which encourages Arts Guild members as well as the community to compete for monetary prizes in the spring\; the Annual School Art Show\, now in its 37th year\; and the Fall Show\, showcasing new work by members since the inception of the Arts Guild.
X-ALT-DESC;FMTTYPE=text/html:The Hanover Area Arts Guild is kicking off its yearlong 50<sup>th</sup> anniversary celebration with a special exhibit this January.<br />\n&nbsp\;<br />\nThe show featuring paintings and photos depicting &ldquo\;50&rdquo\; or &ldquo\;Hanover.&rdquo\; It continues through Feb. 3 at Art Downtown\, the gallery of the Arts Guild\, 32 Carlisle St.\, in downtown Hanover.<br />\n&nbsp\;<br />\nThe exhibit can be seen during regular gallery hours\, 10 a.m.-5 p.m. Tuesday-Thursday\, 10 a.m.-7 p.m. Friday and 10 a.m.-7 p.m. Saturday. As always\, the gallery is free.<br />\n&nbsp\;<br />\nThe Arts Guild was formed in 1968 by a handful of artisans in Hanover and now owns a gallery on Carlisle Street\, just steps off the Square. In addition to monthly shows\, the Arts Guild also offers classes\, maintains a library of arts books and is active on social media. Annually\, the Arts Guild awards a scholarship to an artist graduating from high school who wants to continue in an arts field.<br />\n&nbsp\;<br />\nAmong the larger shows at the gallery are the Open Show\, which encourages Arts Guild members as well as the community to compete for monetary prizes in the spring\; the Annual School Art Show\, now in its 37<sup>th</sup> year\; and the Fall Show\, showcasing new work by members since the inception of the Arts Guild.
LOCATION:32 Carlisle St.\, just steps off the Square
UID:e.1500.3133
SEQUENCE:3
DTSTAMP:20260421T042336Z
URL:https://business.mainstreethanover.org/events/details/50-years-in-hanover-3133
END:VEVENT

END:VCALENDAR
