BEGIN:VCALENDAR
VERSION:2.0
PRODID:-//ChamberMaster//Event Calendar 2.0//EN
METHOD:PUBLISH
X-PUBLISHED-TTL:P3D
REFRESH-INTERVAL:P3D
CALSCALE:GREGORIAN
BEGIN:VEVENT
DTSTART:20160624T230000Z
DTEND:20160625T030000Z
X-MICROSOFT-CDO-ALLDAYEVENT:FALSE
SUMMARY:5th Annual Summer Solstice
DESCRIPTION:This festive evening celebrates the beginning of summer and the future of Hanover's Public Library. Your support will ensure a future of literacy and lifelong education for subsequent generations. Stop in or call the library to reserve your spot - 717-632-5183. (Must be 21 years of age to attend)
X-ALT-DESC;FMTTYPE=text/html:This festive evening celebrates the beginning of summer and the future of Hanover&rsquo\;s Public Library. Your support will ensure a future of literacy and lifelong education for subsequent generations. Stop in or call the library to reserve your spot - 717-632-5183. (Must be 21 years of age to attend)
LOCATION:Roof of the Guthrie Memorial Library 2 Library Place Hanover\, PA 17331
UID:e.1500.1125
SEQUENCE:3
DTSTAMP:20260422T102120Z
URL:https://business.mainstreethanover.org/events/details/5th-annual-summer-solstice-06-24-2016-1125
END:VEVENT

END:VCALENDAR
