BEGIN:VCALENDAR
VERSION:2.0
PRODID:-//ChamberMaster//Event Calendar 2.0//EN
METHOD:PUBLISH
X-PUBLISHED-TTL:P3D
REFRESH-INTERVAL:P3D
CALSCALE:GREGORIAN
BEGIN:VEVENT
DTSTART;VALUE=DATE:20180308
DTEND;VALUE=DATE:20180309
TRANSP:TRANSPARENT
X-MICROSOFT-CDO-ALLDAYEVENT:TRUE
SUMMARY:66th Annual Builders' Home & Garden Show 2018 sponsored by The Exchange Club of Hanover
DESCRIPTION:
X-ALT-DESC;FMTTYPE=text/html:
LOCATION:Former Weis Markets 1047 Baltimore St.\, Hanover\, PA
UID:e.1500.4167
SEQUENCE:3
DTSTAMP:20260421T013845Z
URL:https://business.mainstreethanover.org/events/details/66th-annual-builders-home-garden-show-2018-sponsored-by-the-exchange-club-of-hanover-4167
END:VEVENT

END:VCALENDAR
