BEGIN:VCALENDAR
VERSION:2.0
PRODID:-//ChamberMaster//Event Calendar 2.0//EN
METHOD:PUBLISH
X-PUBLISHED-TTL:P3D
REFRESH-INTERVAL:P3D
CALSCALE:GREGORIAN
BEGIN:VEVENT
DTSTART:20151024T210000Z
DTEND:20151024T230000Z
X-MICROSOFT-CDO-ALLDAYEVENT:FALSE
SUMMARY:A bit of Tuscany Wine Dinner Adams County Winery
DESCRIPTION:"A bit of Tuscany" Wine Dinner\n\nFood will be prepared Chef Armando at La Cucina.
X-ALT-DESC;FMTTYPE=text/html:<span style="line-height: 107%\; font-family: &quot\;Calibri&quot\;\,&quot\;sans-serif&quot\;\; font-size: 11pt\; mso-ascii-theme-font: minor-latin\; mso-fareast-font-family: Calibri\; mso-fareast-theme-font: minor-latin\; mso-hansi-theme-font: minor-latin\; mso-bidi-font-family: &quot\;Times New Roman&quot\;\; mso-bidi-theme-font: minor-bidi\; mso-ansi-language: EN-US\; mso-fareast-language: EN-US\; mso-bidi-language: AR-SA\;"><font color="#000000">&ldquo\;A bit of Tuscany&rdquo\; Wine Dinner<br />\nFood will be prepared Chef Armando at La Cucina. </font></span>
LOCATION:Farm Winery location Adams County Winery 251 Peach Tree Rd * Orrtanna\, PA 17353
UID:e.1500.1007
SEQUENCE:3
DTSTAMP:20260422T220126Z
URL:https://business.mainstreethanover.org/events/details/a-bit-of-tuscany-wine-dinner-adams-county-winery-10-24-2015-1007
END:VEVENT

END:VCALENDAR
