BEGIN:VCALENDAR
VERSION:2.0
PRODID:-//ChamberMaster//Event Calendar 2.0//EN
METHOD:PUBLISH
X-PUBLISHED-TTL:P3D
REFRESH-INTERVAL:P3D
CALSCALE:GREGORIAN
BEGIN:VEVENT
DTSTART:20180630T170000Z
DTEND:20180630T230000Z
X-MICROSOFT-CDO-ALLDAYEVENT:FALSE
SUMMARY:"A Celebration of God and Country!"
DESCRIPTION:170-voice National Christian Choir Kathy Bowman director 2 identical Patriotic Concerts for all ages\, variety of musical styles concert pianist Michael Faircloth soprano Diane Susek Bravura Brass quintet recognition of veterans patriotic decorations\, including large flag display by the Hanover Exchange Club other surprises
X-ALT-DESC;FMTTYPE=text/html:170-voice National Christian Choir Kathy Bowman director 2 identical Patriotic Concerts for all ages\, variety of musical styles concert pianist Michael Faircloth soprano Diane Susek Bravura Brass quintet recognition of veterans patriotic decorations\, including large flag display by the Hanover Exchange Club other surprises
LOCATION:Hanover First Church of God 600 Fairview Dr. Hanover\, PA 17331 church's Fellowship Hall
UID:e.1500.4251
SEQUENCE:3
DTSTAMP:20260420T200431Z
URL:https://business.mainstreethanover.org/events/details/a-celebration-of-god-and-country-4251
END:VEVENT

END:VCALENDAR
