BEGIN:VCALENDAR
VERSION:2.0
PRODID:-//ChamberMaster//Event Calendar 2.0//EN
METHOD:PUBLISH
X-PUBLISHED-TTL:P3D
REFRESH-INTERVAL:P3D
CALSCALE:GREGORIAN
BEGIN:VEVENT
DTSTART:20151111T140000Z
DTEND:20151111T220000Z
X-MICROSOFT-CDO-ALLDAYEVENT:FALSE
SUMMARY:A Veteran'd Day Salute
DESCRIPTION:In honor of our Veterans\, the AACA Museum offers complimentary admission to all Veterans on Veteran's Day. Active duty military receive complimentary admission with military ID year-round.\n\nThe AACA Museum will have a special vehicle on display   A 1942 Ford Jeep GPW (general purpose design Willys).  The demand for jeeps in World War 2 was so great they also contracted with Ford to make these.\n\nThank you for your service to our great country!
X-ALT-DESC;FMTTYPE=text/html:<p><span style="color: rgb(34\, 34\, 34)\; line-height: normal\; font-family: arial\, sans-serif\; font-size: 12.8px\;">In honor of our Veterans\, the AACA Museum offers complimentary admission to all Veterans on Veteran&rsquo\;s Day. Active duty military receive complimentary admission with military ID year-round.</span></p>\n\n<p><span style="color: rgb(34\, 34\, 34)\; line-height: normal\; font-family: arial\, sans-serif\; font-size: 12.8px\;">The AACA Museum will have a special vehicle on display &ndash\; A 1942 Ford Jeep GPW (general purpose design Willys).&nbsp\;&nbsp\;The demand for jeeps in World War 2 was so great they also contracted with Ford to make these.</span></p>\n\n<p style="color: rgb(34\, 34\, 34)\; line-height: normal\; font-family: arial\, sans-serif\; font-size: 12.8px\;">Thank you for your service to our great country!</p>\n
LOCATION:AACA Museum 161 Museum Drive Hershey\, PA 17033
UID:e.1500.984
SEQUENCE:3
DTSTAMP:20260422T201137Z
URL:https://business.mainstreethanover.org/events/details/a-veteran-d-day-salute-11-11-2015-984
END:VEVENT

END:VCALENDAR
