BEGIN:VCALENDAR
VERSION:2.0
PRODID:-//ChamberMaster//Event Calendar 2.0//EN
METHOD:PUBLISH
X-PUBLISHED-TTL:P3D
REFRESH-INTERVAL:P3D
CALSCALE:GREGORIAN
BEGIN:VEVENT
DTSTART:20160917T130000Z
DTEND:20160917T160000Z
X-MICROSOFT-CDO-ALLDAYEVENT:FALSE
SUMMARY:ACNB BANK TO HOST JOB FAIR
DESCRIPTION:GETTYSBURG\, PA\, September 7\, 2016 --- Whether hoping to find a fresh start\, a better job\, or a new career direction\, job seekers will find a variety of exciting full-time and part-time banking opportunities available at a free job fair hosted by ACNB Bank. The job fair will be held on Saturday\, September 17\, from 9 a.m. to 12:00 noon at the ACNB Corporation Operations Center located at 100 V-Twin Drive\, Gettysburg. Convenient parking is available at the front entrance.\n\n"This job fair provides active job seekers with an opportunity to learn more about ACNB Bank and the open retail office positions including teller\, teller supervisor\, customer service specialist\, retail office manager\, as well as other important banking roles. All available positions are based within the Bank's four county market area including Adams\, Cumberland\, Franklin and York\," said Sandra A. Deaner\, ACNB Bank Senior Vice President/Human Resources Manager.\n\nAttendees are encouraged to bring a resume\, although it is not required. Previous banking experience is not required for every open position.\n\nACNB Bank is an equal opportunity employer and all qualified applicants will receive consideration for employment without regard to race\, color\, religion\, gender\, national origin\, sexual orientation\, gender identity\, age\, disability\, protected veteran status\, genetic information\, or any other characteristic protected by law.
X-ALT-DESC;FMTTYPE=text/html:GETTYSBURG\, PA\, September 7\, 2016 --- Whether hoping to find a fresh start\, a better job\, or a new career direction\, job seekers will find a variety of exciting full-time and part-time banking opportunities available at a free job fair hosted by ACNB Bank. The job fair will be held on Saturday\, September 17\, from 9 a.m. to 12:00 noon at the ACNB Corporation Operations Center located at 100 V-Twin Drive\, Gettysburg. Convenient parking is available at the front entrance.<br />\n&ldquo\;This job fair provides active job seekers with an opportunity to learn more about ACNB Bank and the open retail office positions including teller\, teller supervisor\, customer service specialist\, retail office manager\, as well as other important banking roles. All available positions are based within the Bank&rsquo\;s four county market area including Adams\, Cumberland\, Franklin and York\,&rdquo\; said Sandra A. Deaner\, ACNB Bank Senior Vice President/Human Resources Manager.<br />\nAttendees are encouraged to bring a resume\, although it is not required. Previous banking experience is not required for every open position.<br />\nACNB Bank is an equal opportunity employer and all qualified applicants will receive consideration for employment without regard to race\, color\, religion\, gender\, national origin\, sexual orientation\, gender identity\, age\, disability\, protected veteran status\, genetic information\, or any other characteristic protected by law.
LOCATION:ACNB Corporation Operations Center Located at: 100 V-Twin Drive Gettysburg\, PA 17325
UID:e.1500.1237
SEQUENCE:3
DTSTAMP:20260422T053214Z
URL:https://business.mainstreethanover.org/events/details/acnb-bank-to-host-job-fair-1237
END:VEVENT

END:VCALENDAR
