BEGIN:VCALENDAR
VERSION:2.0
PRODID:-//ChamberMaster//Event Calendar 2.0//EN
METHOD:PUBLISH
X-PUBLISHED-TTL:P3D
REFRESH-INTERVAL:P3D
CALSCALE:GREGORIAN
BEGIN:VEVENT
DTSTART:20170916T130000Z
DTEND:20170916T160000Z
X-MICROSOFT-CDO-ALLDAYEVENT:FALSE
SUMMARY:ACNB Community Shredding Event
DESCRIPTION:Make plans today to shred your old confidential documents at ACNB Bank's Community Shred on Saturday\, September 16\, from 9:00 a.m.   12:00 noon at the Bank's Operations Center located at 100 V-Twin Drive\, Gettysburg. Local residents may bring up to five boxes of documents per household. A donation of $2.00 per box will be accepted to benefit the United Way of Adams County. To register\, call ACNB Bank at 717-334-3161 or toll free 1-888-334-ACNB (2262)\, Monday through Friday\, between the hours of 8:00 a.m.   5:00 p.m. The registration deadline is Tuesday\, September 12
X-ALT-DESC;FMTTYPE=text/html:<span style="font-family:calibri\,sans-serif\;"><span style="font-size:11.0pt\;">Make plans today to shred your old confidential documents at ACNB Bank&rsquo\;s Community Shred on Saturday\, September 16\, from 9:00 a.m. &ndash\; 12:00 noon at the Bank&rsquo\;s Operations Center located at 100 V-Twin Drive\, Gettysburg. Local residents may bring up to five boxes of documents per household. A donation of $2.00 per box will be accepted to benefit the United Way of Adams County. To register\, call ACNB Bank at 717-334-3161 or toll free 1-888-334-ACNB (2262)\, Monday through Friday\, between the hours of 8:00 a.m. &ndash\; 5:00 p.m. The registration deadline is Tuesday\, September 12</span></span><br />\n<br />\n<br />\n&nbsp\;
LOCATION:ACNB Corporation Operations Center 100 V-Twin Drive\, Gettysburg
UID:e.1500.3011
SEQUENCE:3
DTSTAMP:20260421T122318Z
URL:https://business.mainstreethanover.org/events/details/acnb-community-shredding-event-3011
END:VEVENT

END:VCALENDAR
