BEGIN:VCALENDAR
VERSION:2.0
PRODID:-//ChamberMaster//Event Calendar 2.0//EN
METHOD:PUBLISH
X-PUBLISHED-TTL:P3D
REFRESH-INTERVAL:P3D
CALSCALE:GREGORIAN
BEGIN:VEVENT
DTSTART:20151017T180000Z
DTEND:20151017T230000Z
X-MICROSOFT-CDO-ALLDAYEVENT:FALSE
SUMMARY:Adams County Winery Fall Fires
DESCRIPTION:* Hayrides. Barn Tours * Bonfires* Live Music & More * Free Event\n\nFood will be available for purchase with Z & D Fries.
X-ALT-DESC;FMTTYPE=text/html:<span style="font-size: medium\;"><span style="font-family: calibri\;">* Hayrides. Barn Tours * Bonfires* Live Music &amp\; More * Free Event</span></span><br />\n<span style="font-size: medium\;"><span style="font-family: calibri\;">Food will be available for purchase with Z &amp\; D Fries. </span></span><br />\n&nbsp\;
LOCATION:Adams County Winery 251 Peach Tree Rd * Orrtanna\, PA 17353
UID:e.1500.1006
SEQUENCE:3
DTSTAMP:20260422T214657Z
URL:https://business.mainstreethanover.org/events/details/adams-county-winery-fall-fires-10-17-2015-1006
END:VEVENT

END:VCALENDAR
