BEGIN:VCALENDAR
VERSION:2.0
PRODID:-//ChamberMaster//Event Calendar 2.0//EN
METHOD:PUBLISH
X-PUBLISHED-TTL:P3D
REFRESH-INTERVAL:P3D
CALSCALE:GREGORIAN
BEGIN:VEVENT
DTSTART:20150329T120000Z
DTEND:20150405T160000Z
X-MICROSOFT-CDO-ALLDAYEVENT:FALSE
SUMMARY:All Saints Episcopal Church for Holy Week and Easter
DESCRIPTION:You are invited to All Saints Episcopal Church for\n\nHoly Week and Easter 2015\n\nPalm Sunday\, March 29 Services at 8 AM and 10 AM \n\nTenebrae\, Wednesday\, April 1 Service at 7 PM\n\nMaundy Thursday\, April 2 Seder at 6 PM Maundy Thursday Service\,7 PM\n\nGood Friday\, April 3 Service with Taize music\, 7 PM\n\nEaster Vigil\, Saturday\, April 4 Service at 8 PM\n\nEaster Day\, April 5 Services 8 AM and 10 AM\n\n \n\nThe Church is handicap accessible\, Nursery available weekly at 10 AM Services\n\nAll Saints Episcopal Church 890 McCosh St. Hanover\, PA // 717-637-5772
X-ALT-DESC;FMTTYPE=text/html:&nbsp\;<br />\n<span style="color: rgb(31\, 73\, 125)\;"><span style="font-size: medium\;"><span style="font-family: times new roman\;">You are invited to All Saints Episcopal Church for</span></span></span><br />\n<span style="color: rgb(31\, 73\, 125)\;"><span style="font-size: medium\;"><span style="font-family: times new roman\;">Holy Week and Easter 2015</span></span></span><br />\n<span style="color: rgb(31\, 73\, 125)\;"><span style="font-size: medium\;"><span style="font-family: times new roman\;">Palm Sunday\, March 29 </span></span></span><span style="color: rgb(31\, 73\, 125)\;"><span style="font-size: medium\;"><span style="font-family: times new roman\;">Services at 8 AM and 10 AM </span></span></span><br />\n<span style="color: rgb(31\, 73\, 125)\;"><span style="font-size: medium\;"><span style="font-family: times new roman\;">Tenebrae\, Wednesday\, April </span></span></span><span style="color: rgb(31\, 73\, 125)\;"><span style="font-size: medium\;"><span style="font-family: times new roman\;">1 </span></span></span><span style="color: rgb(31\, 73\, 125)\;"><span style="font-size: medium\;"><span style="font-family: times new roman\;">Service</span></span></span><span style="color: rgb(31\, 73\, 125)\;"><span style="font-size: medium\;"><span style="font-family: times new roman\;"> at 7 PM</span></span></span><br />\n<span style="color: rgb(31\, 73\, 125)\;"><span style="font-size: medium\;"><span style="font-family: times new roman\;">Maundy Thursday\, April 2 </span></span></span><span style="color: rgb(31\, 73\, 125)\;"><span style="font-size: medium\;"><span style="font-family: times new roman\;">Seder at 6 PM </span></span></span><span style="color: rgb(31\, 73\, 125)\;"><span style="font-size: medium\;"><span style="font-family: times new roman\;">Maundy Thursday Service\,7 PM</span></span></span><br />\n<span style="color: rgb(31\, 73\, 125)\;"><span style="font-size: medium\;"><span style="font-family: times new roman\;">Good Friday\, April 3 </span></span></span><span style="color: rgb(31\, 73\, 125)\;"><span style="font-size: medium\;"><span style="font-family: times new roman\;">Service with Taize music\, 7 PM</span></span></span><br />\n<span style="color: rgb(31\, 73\, 125)\;"><span style="font-size: medium\;"><span style="font-family: times new roman\;">Easter Vigil\, Saturday\, April 4 </span></span></span><span style="color: rgb(31\, 73\, 125)\;"><span style="font-size: medium\;"><span style="font-family: times new roman\;">Service at 8 PM</span></span></span><br />\n<span style="color: rgb(31\, 73\, 125)\;"><span style="font-size: medium\;"><span style="font-family: times new roman\;">Easter Day\, April 5 </span></span></span><span style="color: rgb(31\, 73\, 125)\;"><span style="font-size: medium\;"><span style="font-family: times new roman\;">Services 8 AM and 10 AM</span></span></span><br />\n&nbsp\;<br />\n<span style="color: rgb(31\, 73\, 125)\;"><span style="font-size: medium\;"><span style="font-family: times new roman\;">The Church is handicap accessible\, Nursery available weekly at 10 AM Services</span></span></span><br />\n<span style="color: rgb(31\, 73\, 125)\;"><span style="font-size: medium\;"><span style="font-family: times new roman\;">All Saints Episcopal Church 890 McCosh St. Hanover\, PA // 717-637-5772</span></span></span><br />\n&nbsp\;
LOCATION:All Saints Episcopal Church
UID:e.1500.876
SEQUENCE:3
DTSTAMP:20260423T074051Z
URL:https://business.mainstreethanover.org/events/details/all-saints-episcopal-church-for-holy-week-and-easter-03-29-2015-876
END:VEVENT

END:VCALENDAR
