BEGIN:VCALENDAR
VERSION:2.0
PRODID:-//ChamberMaster//Event Calendar 2.0//EN
METHOD:PUBLISH
X-PUBLISHED-TTL:P3D
REFRESH-INTERVAL:P3D
CALSCALE:GREGORIAN
BEGIN:VEVENT
DTSTART:20180425T193000Z
DTEND:20180426T000000Z
X-MICROSOFT-CDO-ALLDAYEVENT:FALSE
SUMMARY:Annual Event hosted by The Manufacturers' Association
DESCRIPTION:NASA space mission commander and American hero Captain Mark Kelly demonstrates how focus\, dedication and persistence \n\ncan help you tap into your potential to succeed in any competitive setting. \n\n\n \n\nAlready an experienced aviator and retired US Navy Captain\, Kelly began his illustrious career with NASA in 1996\, spending more than 50 days in space \n\nand commanding both the Space Shuttle Endeavour and Space Shuttle Discovery. He is a veteran of four space flight missions.\n\n \n\nFrom leading teams in some of the most dynamic environments imaginable\, to the thrill of spaceflight\, to the personal tragedy that exposed how love and devotion to family \n\nis paramount to defining and achieving success\, Kelly offers insights drawn from his various and extensive experiences that are truly out of this world. With an extraordinary career of service to our military\, our nation and humanity\, Mark has secured his place in history as a role model\, modern-day pioneer\, and leader of distinction. \n\n \n\nTogether with his identical twin brother\, Scott\, he has laid the groundwork for the future of space exploration as the subjects of an unprecedented NASA study on how space affects the human body. \n\n \n\n\nCurrently\, Mark is on the Commercial Crew Safety Board at SpaceX (founded by Elon Musk)\, and is the only person at Space X who has commanded a space mission.\n\nHe is also co-founder of World View\, a full-service commercial space launch provider.
X-ALT-DESC;FMTTYPE=text/html:<div data-userway-font-size="15">\n<div data-userway-font-size="13" style="text-align: center\;"><font data-userway-font-size="13" size="2">NASA space mission commander and American hero Captain Mark Kelly demonstrates how focus\, dedication and persistence&nbsp\;</font></div>\n\n<div data-userway-font-size="13" style="text-align: center\;"><font data-userway-font-size="13" size="2">can help you tap into your potential to succeed in any competitive setting.&nbsp\;</font></div>\n</div>\n\n<div data-userway-font-size="15" style="text-align: center\;">&nbsp\;</div>\n\n<div data-userway-font-size="15" style="text-align: center\;"><font data-userway-font-size="13" size="2">Already an experienced aviator and retired US Navy Captain\, Kelly began his illustrious career with NASA in 1996\, spending more than 50 days in space&nbsp\;</font></div>\n\n<div data-userway-font-size="15" style="text-align: center\;"><font data-userway-font-size="13" size="2">and commanding&nbsp\;both the Space Shuttle&nbsp\;<i data-userway-font-size="13">Endeavour</i>&nbsp\;and Space Shuttle&nbsp\;<i data-userway-font-size="13">Discovery.</i>&nbsp\;He is a veteran of four space flight missions.</font></div>\n\n<div data-userway-font-size="15" style="text-align: center\;">&nbsp\;</div>\n\n<div data-userway-font-size="15" style="text-align: center\;"><font data-userway-font-size="13" size="2">From leading teams in some of the most dynamic environments imaginable\, to the thrill of spaceflight\, to the personal tragedy that exposed how love and devotion to family&nbsp\;</font></div>\n\n<div data-userway-font-size="15" style="text-align: center\;"><font data-userway-font-size="13" size="2">is paramount to defining&nbsp\;</font><span data-userway-font-size="13" style="font-size: small\;">and achieving success\,&nbsp\;</span><span data-userway-font-size="13" style="font-size: small\;">Kelly offers insights drawn from his various and extensive experiences that are truly out of this world. With an extraordinary career of service to our military\,&nbsp\;</span><span data-userway-font-size="13" style="font-size: small\;">our nation and humanity\,&nbsp\;</span><span data-userway-font-size="13" style="font-size: small\;">Mark has secured his place in history as a role model\,&nbsp\;</span><span data-userway-font-size="13" style="font-size: small\;">modern-day pioneer\, and leader of distinction.&nbsp\;</span></div>\n\n<div data-userway-font-size="15" style="text-align: center\;">&nbsp\;</div>\n\n<div data-userway-font-size="15" style="text-align: center\;"><font data-userway-font-size="13" size="2">Together with his identical twin brother\, Scott\, he has laid the groundwork for the future of space exploration as the subjects of an unprecedented NASA study on how space affects the human body.&nbsp\;</font></div>\n\n<div data-userway-font-size="15" style="text-align: center\;">&nbsp\;</div>\n\n<div data-userway-font-size="15">\n<div data-userway-font-size="15" style="color: rgb(0\, 0\, 0)\; font-family: Arial\, Helvetica\, sans-serif\; font-size: 15px\; text-align: center\;"><font data-userway-font-size="13" size="2">Currently\, Mark is on the Commercial Crew Safety Board at SpaceX (founded by Elon Musk)\, and is the only person at Space X who has commanded a space mission.</font></div>\n\n<div data-userway-font-size="15" style="color: rgb(0\, 0\, 0)\; font-family: Arial\, Helvetica\, sans-serif\; font-size: 15px\; text-align: center\;"><font data-userway-font-size="13" size="2">He is also co-founder of World View\, a full-service commercial space launch provider.</font></div>\n\n<div data-userway-font-size="15" style="color: rgb(0\, 0\, 0)\; font-family: Arial\, Helvetica\, sans-serif\; font-size: 15px\; text-align: center\;">&nbsp\;</div>\n</div>\n
LOCATION:The Pullo Center - Penn State University\, York Campus
UID:e.1500.3130
SEQUENCE:3
DTSTAMP:20260420T234100Z
URL:https://business.mainstreethanover.org/events/details/annual-event-hosted-by-the-manufacturers-association-3130
END:VEVENT

END:VCALENDAR
