BEGIN:VCALENDAR
VERSION:2.0
PRODID:-//ChamberMaster//Event Calendar 2.0//EN
METHOD:PUBLISH
X-PUBLISHED-TTL:P3D
REFRESH-INTERVAL:P3D
CALSCALE:GREGORIAN
BEGIN:VEVENT
DTSTART:20151015T160000Z
DTEND:20151015T170000Z
X-MICROSOFT-CDO-ALLDAYEVENT:FALSE
SUMMARY:Annual Meeting 2015 10/15/15
DESCRIPTION:Join us for our Annual Board of Directors Meeting!\n\nA light lunch will be served as the board reviews financial and the past year. \n\n\n\nSponsored by Hanover Hospital & APPI Energy
X-ALT-DESC;FMTTYPE=text/html:Join us for our Annual Board of Directors Meeting!<br />\nA light lunch will be served as the board reviews financial and the past year.&nbsp\;<br />\n<br />\nSponsored by Hanover Hospital &amp\; APPI Energy<br />\n&nbsp\;
LOCATION:Guthrie Memorial Library 2 Library Place Hanover\, PA 17331
UID:e.1500.965
SEQUENCE:3
DTSTAMP:20260422T215917Z
URL:https://business.mainstreethanover.org/events/details/annual-meeting-2015-10-15-15-10-15-2015-965
END:VEVENT

END:VCALENDAR
