BEGIN:VCALENDAR
VERSION:2.0
PRODID:-//ChamberMaster//Event Calendar 2.0//EN
METHOD:PUBLISH
X-PUBLISHED-TTL:P3D
REFRESH-INTERVAL:P3D
CALSCALE:GREGORIAN
BEGIN:VEVENT
DTSTART:20181018T160000Z
DTEND:20181018T170000Z
X-MICROSOFT-CDO-ALLDAYEVENT:FALSE
SUMMARY:Annual Meeting 2018
DESCRIPTION:Join us for our Annual Board of Directors Meeting! A light lunch will be served as the board reviews financial and the past year. \n\n\n\nSponsored by DOCEO Office Solutions & APPI Energy.
X-ALT-DESC;FMTTYPE=text/html:Join us for our Annual Board of Directors Meeting! A light lunch will be served as the board reviews financial and the past year.&nbsp\;<br />\n<br />\n<strong>Sponsored by DOCEO Office Solutions &amp\; APPI Energy.</strong><br />\n&nbsp\;
LOCATION:Guthrie Memorial Library 2 Library Place Hanover\, PA 17331
UID:e.1500.4281
SEQUENCE:3
DTSTAMP:20260420T132329Z
URL:https://business.mainstreethanover.org/events/details/annual-meeting-2018-4281
END:VEVENT

END:VCALENDAR
