BEGIN:VCALENDAR
VERSION:2.0
PRODID:-//ChamberMaster//Event Calendar 2.0//EN
METHOD:PUBLISH
X-PUBLISHED-TTL:P3D
REFRESH-INTERVAL:P3D
CALSCALE:GREGORIAN
BEGIN:VEVENT
DTSTART:20180414T220000Z
DTEND:20180415T000000Z
X-MICROSOFT-CDO-ALLDAYEVENT:FALSE
SUMMARY:Annual Spring Hymn Sing
DESCRIPTION:Annual Spring Hymn Sing features congregational selection and singing of hymns accompanied by piano and organ\, guest baritone vocalist James Dobson\, and the Bravura Brass quintet. This event is free\, and the doors will open at 5:15PM.
X-ALT-DESC;FMTTYPE=text/html:Annual Spring Hymn Sing features congregational selection and singing of hymns accompanied by piano and organ\, guest baritone vocalist James Dobson\, and the Bravura Brass quintet. This event is free\, and the doors will open at 5:15PM.
LOCATION:Hanover First Church of God 600 Fairview Dr. Hanover\, PA 17331
UID:e.1500.4197
SEQUENCE:3
DTSTAMP:20260420T233647Z
URL:https://business.mainstreethanover.org/events/details/annual-spring-hymn-sing-04-14-2018-4197
END:VEVENT

END:VCALENDAR
