BEGIN:VCALENDAR
VERSION:2.0
PRODID:-//ChamberMaster//Event Calendar 2.0//EN
METHOD:PUBLISH
X-PUBLISHED-TTL:P3D
REFRESH-INTERVAL:P3D
CALSCALE:GREGORIAN
BEGIN:VEVENT
DTSTART:20160507T220000Z
DTEND:20160508T000000Z
X-MICROSOFT-CDO-ALLDAYEVENT:FALSE
SUMMARY:Annual Spring Hymn Sing
DESCRIPTION:Congregational selection and singing of hymns accompanied by piano and organ Features: soprano vocalist Diane Susek\, concert pianist Michael Faircloth\, a large vocal ensemble from the National Christian Choir
X-ALT-DESC;FMTTYPE=text/html:Congregational selection and singing of hymns accompanied by piano and organ Features: soprano vocalist Diane Susek\, concert pianist Michael Faircloth\, a large vocal ensemble from the National Christian Choir
LOCATION:Hanover First Church of God 600 Fairview Dr. Hanover
UID:e.1500.1108
SEQUENCE:3
DTSTAMP:20260422T114529Z
URL:https://business.mainstreethanover.org/events/details/annual-spring-hymn-sing-05-07-2016-1108
END:VEVENT

END:VCALENDAR
