BEGIN:VCALENDAR
VERSION:2.0
PRODID:-//ChamberMaster//Event Calendar 2.0//EN
METHOD:PUBLISH
X-PUBLISHED-TTL:P3D
REFRESH-INTERVAL:P3D
CALSCALE:GREGORIAN
BEGIN:VEVENT
DTSTART:20170506T220000Z
DTEND:20170507T000000Z
X-MICROSOFT-CDO-ALLDAYEVENT:FALSE
SUMMARY:Annual Spring Hymn Sing
DESCRIPTION:There will be congregational selection and singing of hymns accompanied by piano and organ. Special features/guests this year will be soprano vocalist Diane Susek\, baritone vocalist James Dobson\, and a trumpet ensemble of local musicians. Doors open at 5:15PM\, and the event is free. This is a very inspiring time of worship.
X-ALT-DESC;FMTTYPE=text/html:There will be congregational selection and singing of hymns accompanied by piano and organ. Special features/guests this year will be soprano vocalist Diane Susek\, baritone vocalist James Dobson\, and a trumpet ensemble of local musicians. Doors open at 5:15PM\, and the event is free. This is a very inspiring time of worship.
LOCATION:Hanover First Church of God 600 Fairview Dr. Hanover\, PA 17331
UID:e.1500.2919
SEQUENCE:3
DTSTAMP:20260421T165813Z
URL:https://business.mainstreethanover.org/events/details/annual-spring-hymn-sing-2919
END:VEVENT

END:VCALENDAR
