BEGIN:VCALENDAR
VERSION:2.0
PRODID:-//ChamberMaster//Event Calendar 2.0//EN
METHOD:PUBLISH
X-PUBLISHED-TTL:P3D
REFRESH-INTERVAL:P3D
CALSCALE:GREGORIAN
BEGIN:VEVENT
DTSTART;VALUE=DATE:20180924
DTEND;VALUE=DATE:20180925
TRANSP:TRANSPARENT
X-MICROSOFT-CDO-ALLDAYEVENT:TRUE
SUMMARY:Art from The Drawing Room
DESCRIPTION:Paintings from The Drawing Room in Gettysburg are featured during September at Art Downtown\, the gallery of the Hanover Area Arts Guild.\n\nThe work includes art-inspired works by Charlotte Yealey\, a Hanover artist\, and three other colleagues from The Drawing Room.\n\nThe artists' work often is inspired by the historic aspect of Gettysburg.\n\nThe exhibit can be seen during regular gallery hours ? 10 a.m.-5 p.m. Tuesday-Thursday\, 10 a.m.-7 p.m. Friday and 10 a.m.-3 p.m. Saturday. The gallery is always free.
X-ALT-DESC;FMTTYPE=text/html:<span style="color:#333333"><span style="font-family:calibri"><span style="font-size:9.0pt">Paintings from The Drawing Room in Gettysburg are featured during September at Art Downtown\, the gallery of the Hanover Area Arts Guild.</span></span></span><br>\n<span style="color:#333333"><span style="font-family:calibri"><span style="font-size:9.0pt">The work includes art-inspired works by Charlotte Yealey\, a Hanover artist\, and three other colleagues from The Drawing Room.</span></span></span><br>\n<span style="color:#333333"><span style="font-family:calibri"><span style="font-size:9.0pt">The artists' work often is inspired by the historic aspect of Gettysburg.</span></span></span><br>\n<span style="color:#333333"><span style="font-family:calibri"><span style="font-size:9.0pt">The exhibit can be seen during regular gallery hours ? 10 a.m.-5 p.m. Tuesday-Thursday\, 10 a.m.-7 p.m. Friday and 10 a.m.-3 p.m. Saturday. The gallery is always free.</span></span></span>
LOCATION:Art Downtown\, 32 Carlisle St.\, Hanover Just steps from the Square
UID:e.1500.4313
SEQUENCE:3
DTSTAMP:20260420T150821Z
URL:https://business.mainstreethanover.org/events/details/art-from-the-drawing-room-09-24-2018-4313
END:VEVENT

END:VCALENDAR
