BEGIN:VCALENDAR
VERSION:2.0
PRODID:-//ChamberMaster//Event Calendar 2.0//EN
METHOD:PUBLISH
X-PUBLISHED-TTL:P3D
REFRESH-INTERVAL:P3D
CALSCALE:GREGORIAN
BEGIN:VEVENT
DTSTART:20151106T230000Z
DTEND:20151107T030000Z
X-MICROSOFT-CDO-ALLDAYEVENT:FALSE
SUMMARY:Autos & Ales
DESCRIPTION:PRESENTED & HOSTED by the AACA MUSEUM\, the 2015 AUTOS & ALES returns for the sixth time BIGGER THAN EVER!\n\nThe 6th annual AUTOS & ALES will have all the favorites from the past and NEW additions to add to the tradition:\n\n\n	OF COURSE\, the regions' BEST breweries (Find more information through the BREWERIES TAB.)\n	Live MUSIC courtesy of: The Luv Gods\, Adam Gingrich\, and Klock Entertainment\n	Free Souvenir Tasting Glass\, Sponsored by Shumaker Williams P.C\n	Food Vendors & Food Beer Pairings\n	Cigar Tent\n	Beer Themed Novelties\n	Antique Cars\, Trucks\, Motorcycles\, and Memorabilia\n	50/50 Cash Raffle and Door Prize Raffle to benefit JDRF (Juvenile Diabetes Research Fund) \n\n\n\n\n	\n	Don't forget\, the last 2 years AUTOS & ALES completely SOLD OUT.  We advise you to purchase your tickets EARLY. Tickets on sale now!\n\n	Designated Driver tickets are available for $15. All designated drivers will receive a root beer float. Courtesy of the Appalachian Brewing Company and Yuengling Ice Cream.\n	\n\n\n\nNeed someone to do the driving? Premier #1 Limousine Service  has you covered with different and customizable Autos & Ales Package deals.\n\n \n\nThis event is for individuals 21+ years or older ONLY. We encourage you to be safe and responsible. Don't drink and drive.\n\n \n\nWant to be a vendor? Learn more on the Museum's Auto & Ales website\, or contact Nuria Guarneschelli at nuria@aacamuseum.org or please call 717-566-7100 ext. 113.
X-ALT-DESC;FMTTYPE=text/html:<p style="color: rgb(34\, 34\, 34)\; line-height: normal\; font-family: arial\, sans-serif\; font-size: 12.8px\;">PRESENTED &amp\; HOSTED by the AACA MUSEUM\, the 2015 AUTOS &amp\; ALES returns for the sixth time BIGGER THAN EVER!</p>\n\n<p><span style="color: rgb(34\, 34\, 34)\; line-height: normal\; font-family: arial\, sans-serif\; font-size: 12.8px\;">The 6th annual AUTOS &amp\; ALES will have all the favorites from the past and NEW additions to add to the tradition:</span></p>\n\n<ul>\n	<li style="margin-left: 15px\;"><span style="color: rgb(34\, 34\, 34)\; line-height: normal\; font-family: arial\, sans-serif\; font-size: 12.8px\;">OF COURSE\, the regions&rsquo\; BEST breweries (Find more information through the BREWERIES TAB.)</span></li>\n	<li style="margin-left: 15px\;"><span style="color: rgb(34\, 34\, 34)\; line-height: normal\; font-family: arial\, sans-serif\; font-size: 12.8px\;">Live MUSIC courtesy of: The Luv Gods\, Adam Gingrich\, and Klock Entertainment</span></li>\n	<li style="margin-left: 15px\;"><span style="color: rgb(34\, 34\, 34)\; line-height: normal\; font-family: arial\, sans-serif\; font-size: 12.8px\;">Free Souvenir Tasting Glass\, Sponsored by Shumaker Williams&nbsp\;P.C</span></li>\n	<li style="margin-left: 15px\;"><span style="color: rgb(34\, 34\, 34)\; line-height: normal\; font-family: arial\, sans-serif\; font-size: 12.8px\;">Food Vendors&nbsp\;&amp\; Food Beer Pairings</span></li>\n	<li style="margin-left: 15px\;"><span style="color: rgb(34\, 34\, 34)\; line-height: normal\; font-family: arial\, sans-serif\; font-size: 12.8px\;">Cigar Tent</span></li>\n	<li style="margin-left: 15px\;"><span style="color: rgb(34\, 34\, 34)\; line-height: normal\; font-family: arial\, sans-serif\; font-size: 12.8px\;">Beer Themed Novelties</span></li>\n	<li style="margin-left: 15px\;"><span style="color: rgb(34\, 34\, 34)\; line-height: normal\; font-family: arial\, sans-serif\; font-size: 12.8px\;">Antique Cars\, Trucks\, Motorcycles\, and Memorabilia</span></li>\n	<li style="margin-left: 15px\;"><span style="color: rgb(34\, 34\, 34)\; line-height: normal\; font-family: arial\, sans-serif\; font-size: 12.8px\;">50/50 Cash Raffle and Door Prize Raffle to benefit JDRF (Juvenile Diabetes Research Fund)&nbsp\;</span></li>\n</ul>\n\n<div>\n<ul>\n	<li style="margin-left: 15px\;">\n	<h3><span style="color: rgb(34\, 34\, 34)\; line-height: normal\; font-family: arial\, sans-serif\; font-size: 12.8px\;">Don&rsquo\;t forget\, the last 2 years AUTOS &amp\; ALES completely SOLD OUT.&nbsp\; We advise you to purchase your tickets EARLY. Tickets on sale now!</span></h3>\n\n	<h4><span style="color: rgb(34\, 34\, 34)\; line-height: normal\; font-family: arial\, sans-serif\; font-size: 12.8px\;">Designated Driver tickets are available for $15. All designated drivers will receive a root beer float. Courtesy of the Appalachian Brewing Company and Yuengling Ice Cream.</span></h4>\n	</li>\n</ul>\n</div>\n\n<div style="color: rgb(34\, 34\, 34)\; line-height: normal\; font-family: arial\, sans-serif\; font-size: 12.8px\;">Need someone to do the driving? Premier #1 Limousine Service &nbsp\;has you covered with different and customizable Autos &amp\; Ales Package deals.</div>\n\n<div style="color: rgb(34\, 34\, 34)\; line-height: normal\; font-family: arial\, sans-serif\; font-size: 12.8px\;">&nbsp\;</div>\n\n<div style="color: rgb(34\, 34\, 34)\; line-height: normal\; font-family: arial\, sans-serif\; font-size: 12.8px\;"><b>This event is for individuals 21+ years or older ONLY. We encourage you to be safe and responsible.&nbsp\;</b><b>Don&rsquo\;t drink and drive.</b></div>\n\n<div style="color: rgb(34\, 34\, 34)\; line-height: normal\; font-family: arial\, sans-serif\; font-size: 12.8px\;">&nbsp\;</div>\n\n<div style="color: rgb(34\, 34\, 34)\; line-height: normal\; font-family: arial\, sans-serif\; font-size: 12.8px\;"><strong>Want to be a vendor? Learn more on the Museum&#39\;s&nbsp\;<a href="http://www.aacamuseum.org/autos-ales/" style="color: rgb(17\, 85\, 204)\;" target="_blank">Auto&nbsp\;&amp\; Ales website</a>\,&nbsp\;or contact Nuria&nbsp\;</strong><strong>Guarneschelli</strong>&nbsp\;at&nbsp\;<a href="mailto:nuria@aacamuseum.org" style="color: rgb(17\, 85\, 204)\;" target="_blank">nuria@aacamuseum.org</a>&nbsp\;or&nbsp\;please call&nbsp\;<a href="tel:717-566-7100%20ext.%20113" style="color: rgb(17\, 85\, 204)\;" target="_blank" value="+17175667100">717-566-7100 ext. 113</a>.</div>\n
LOCATION:AACA Museum 161 Museum Drive Hershey\, PA 17033
UID:e.1500.983
SEQUENCE:3
DTSTAMP:20260422T200915Z
URL:https://business.mainstreethanover.org/events/details/autos-ales-11-06-2015-983
END:VEVENT

END:VCALENDAR
