BEGIN:VCALENDAR
VERSION:2.0
PRODID:-//ChamberMaster//Event Calendar 2.0//EN
METHOD:PUBLISH
X-PUBLISHED-TTL:P3D
REFRESH-INTERVAL:P3D
CALSCALE:GREGORIAN
BEGIN:VEVENT
DTSTART:20180619T200000Z
DTEND:20180620T010000Z
X-MICROSOFT-CDO-ALLDAYEVENT:FALSE
SUMMARY:bare Summer Fling
DESCRIPTION:bare Skin Care & Laser Center invites you to join the bare Team on Tuesday evening (tomorrow night!) June 19th from 4-9 p.m. as they showcase all of their treatments and services! Door prizes and special offers will be available during the evening\, along with live demonstrations. Some of their featured services will include: Cryoskin (Fat Freezing and Cellulite Reduction)\, Weight Loss\, MicroNeedling\, Eyelash Extensions\, Threading\, Microdermabrasions and Eyelash Enhancement Tattooing. Adult beverages and refreshments will be served.
X-ALT-DESC;FMTTYPE=text/html:bare Skin Care &amp\; Laser Center invites you to join the bare Team on Tuesday evening (tomorrow night!) June 19th from 4-9 p.m. as they showcase all of their treatments and services! Door prizes and special offers will be available during the evening\, along with live demonstrations. Some of their featured services will include: Cryoskin (Fat Freezing and Cellulite Reduction)\, Weight Loss\, MicroNeedling\, Eyelash Extensions\, Threading\, Microdermabrasions and Eyelash Enhancement Tattooing. Adult beverages and refreshments will be served.
LOCATION:3130 Grandview Road\, Hanover\, PA 17331
UID:e.1500.4258
SEQUENCE:3
DTSTAMP:20260420T215054Z
URL:https://business.mainstreethanover.org/events/details/bare-summer-fling-4258
END:VEVENT

END:VCALENDAR
