BEGIN:VCALENDAR
VERSION:2.0
PRODID:-//ChamberMaster//Event Calendar 2.0//EN
METHOD:PUBLISH
X-PUBLISHED-TTL:P3D
REFRESH-INTERVAL:P3D
CALSCALE:GREGORIAN
BEGIN:VEVENT
DTSTART:20180417T130000Z
DTEND:20180418T220000Z
X-MICROSOFT-CDO-ALLDAYEVENT:FALSE
SUMMARY:BERNINA International owner visits local shop
DESCRIPTION:Hanspeter Ueltschi\, fourth-generation owner of the BERNINA International Sewing Machine company\, will honor local dealer's 25th anniversary event with a visit. Mr. Ueltschi will meet guests\, provide a BERNINA company overview\, highlight new BERNINA products\, and sign customer sewing machines. Inquire about more event activities on-going during April 17 & 18\; 9am-6pm. Product demonstrations & incredible savings will be offered on BERNINA and other sewing & crafting products. Vendors from across the US including: Koala Sewing Furniture\, Oklahoma Embroidery\, LauraStar Irons\, Fit for Art & Lisa Calle will be present to represent their products.
X-ALT-DESC;FMTTYPE=text/html:Hanspeter Ueltschi\, fourth-generation owner of the BERNINA International Sewing Machine company\, will honor local dealer&rsquo\;s 25th anniversary event with a visit. Mr. Ueltschi will meet guests\, provide a BERNINA company overview\, highlight new BERNINA products\, and sign customer sewing machines. Inquire about more event activities on-going during April 17 &amp\; 18\; 9am-6pm. Product demonstrations &amp\; incredible savings will be offered on BERNINA and other sewing &amp\; crafting products. Vendors from across the US including: Koala Sewing Furniture\, Oklahoma Embroidery\, LauraStar Irons\, Fit for Art &amp\; Lisa Calle will be present to represent their products.
LOCATION:Danner's BERNINA Shoppe 551 Beck Mill Rd Hanover PA 17331
UID:e.1500.4138
SEQUENCE:3
DTSTAMP:20260420T234119Z
URL:https://business.mainstreethanover.org/events/details/bernina-international-owner-visits-local-shop-4138
END:VEVENT

END:VCALENDAR
