BEGIN:VCALENDAR
VERSION:2.0
PRODID:-//ChamberMaster//Event Calendar 2.0//EN
METHOD:PUBLISH
X-PUBLISHED-TTL:P3D
REFRESH-INTERVAL:P3D
CALSCALE:GREGORIAN
BEGIN:VEVENT
DTSTART;VALUE=DATE:20170419
DTEND;VALUE=DATE:20170420
TRANSP:TRANSPARENT
X-MICROSOFT-CDO-ALLDAYEVENT:TRUE
SUMMARY:Buffalo Wild Wings Community Day
DESCRIPTION:Bring your friends\, family\, and teammates in for Community Day & 10% of sales will be donated locally to Boys & Girls Club of Westminster.\n\n\n\nBig things happen when a kid belongs to a team.  Playing team sports is about igniting a passion\, belonging to a team\, working together to accomplish a comman goal\, and building self-esteem through great play.\n\n\n\nBy 2020\, we are committed to giving $16 million to Boys & Girls Club America to support youth sports at Boys & Girls Club across the country.  Last year\, with your help\, 88\,000 kids and teens participated in flag and tackle football\, basketball\, and step\, dance\, and cheer teams.\n\n\n\nYour support does change the game for those who need it most.\n\n\n\nOn April 19th\, Hanover Buffalo Wild Wings will have lots of things for people of all ages to see.  Come see the local firetruck\, EMS truck\, and a local race car from 4-7pm.
X-ALT-DESC;FMTTYPE=text/html:<strong><span style="font-size:14px">Bring your friends\, family\, and teammates in for Community Day &amp\; 10% of sales will be donated locally to Boys &amp\; Girls Club of Westminster.<br />\n<br />\nBig things happen when a kid belongs to a team. &nbsp\;Playing team sports is about igniting a passion\, belonging to a team\, working together to accomplish a comman goal\, and building self-esteem through great play.<br />\n<br />\nBy 2020\, we are committed to giving $16 million to Boys &amp\; Girls Club America to support youth sports at Boys &amp\; Girls Club across the country. &nbsp\;Last year\, with your help\, 88\,000 kids and teens participated in flag and tackle football\, basketball\, and step\, dance\, and cheer teams.<br />\n<br />\nYour support does change the game for those who need it most.<br />\n<br />\nOn April 19th\, Hanover Buffalo Wild Wings will have lots of things for people of all ages to see. &nbsp\;Come see the local firetruck\, EMS truck\, and a local race car from 4-7pm.</span></strong><br />\n<br />\n&nbsp\;
LOCATION:Buffalo Wild Wings\, 81 Wilson Ave\, Hanover
UID:e.1500.2516
SEQUENCE:3
DTSTAMP:20260421T184320Z
URL:https://business.mainstreethanover.org/events/details/buffalo-wild-wings-community-day-2516
END:VEVENT

END:VCALENDAR
