BEGIN:VCALENDAR
VERSION:2.0
PRODID:-//ChamberMaster//Event Calendar 2.0//EN
METHOD:PUBLISH
X-PUBLISHED-TTL:P3D
REFRESH-INTERVAL:P3D
CALSCALE:GREGORIAN
BEGIN:VEVENT
DTSTART:20160317T113000Z
DTEND:20160317T193000Z
X-MICROSOFT-CDO-ALLDAYEVENT:FALSE
SUMMARY:Business Growth Conference
DESCRIPTION:MANTEC started the Business Growth Conference four years ago. Think about how much has changed. Is everything you thought of related to technology?\n\n\n\nThe manufacturing world is changing as digital technology resets the landscape. Known as "Technology Disruption" or the "New Industrial Revolution\," technology gives a competitive advantage for small to medium sized enterprises.\n\n\n\nThis year's conference incorporates all the important features of business growth\, workforce\, continuous improvement and supply chain while expanding on technology. Case studies and real-world examples are used throughout the day. We encourage you to build your own agenda based on your personal interests. Choose from 2 keynotes\, 4 workshops and 12 sessions. This conference is geared for many functions in an organization. AND we will have robots on display. Don't miss it!
X-ALT-DESC;FMTTYPE=text/html:MANTEC started the Business Growth Conference four years ago. Think about how much has changed. Is everything you thought of related to technology?<br />\n<br />\nThe manufacturing world is changing as digital technology resets the landscape. Known as &quot\;Technology Disruption&quot\; or the &quot\;New Industrial Revolution\,&quot\; technology gives a competitive advantage for small to medium sized enterprises.<br />\n<br />\nThis year&#39\;s conference incorporates all the important features of business growth\, workforce\, continuous improvement and supply chain while expanding on technology. Case studies and real-world examples are used throughout the day. We encourage you to build your own agenda based on your personal interests. Choose from 2 keynotes\, 4 workshops and 12 sessions. This conference is geared for many functions in an organization. AND we will have robots on display. Don&#39\;t miss it!
LOCATION:Sheraton Harrisburg-Hershey Hotel 4650 Lindle Road Harrisburg\, PA 17111
UID:e.1500.1058
SEQUENCE:3
DTSTAMP:20260422T143333Z
URL:https://business.mainstreethanover.org/events/details/business-growth-conference-03-17-2016-1058
END:VEVENT

END:VCALENDAR
