BEGIN:VCALENDAR
VERSION:2.0
PRODID:-//ChamberMaster//Event Calendar 2.0//EN
METHOD:PUBLISH
X-PUBLISHED-TTL:P3D
REFRESH-INTERVAL:P3D
CALSCALE:GREGORIAN
BEGIN:VEVENT
DTSTART:20170425T213000Z
DTEND:20170425T233000Z
X-MICROSOFT-CDO-ALLDAYEVENT:FALSE
SUMMARY:Business Networking Event Sponsored by The Rotary Club of Hanover
DESCRIPTION:Grow your business by attending the Rotary Club of Hanover district-wide Rotary Means Business event. The event is open to all Rotary Members and nonmembers (guests of Rotarians) interested in growing their business and helping the community. Attendees will be able to meet local business and Rotary representatives of southcentral Pennsylvania. The Rotary Clubs are in District 7390 with 25 to 50 business and professional classifications. During the evening\, all guests will have an opportunity to speak briefly about their business or organization and meet other guests through less-structured networking. Refreshments will include hors d'oeuvres and drinks provided by Bourbon Bar & Grill. The event is being sponsored by Nichole Elizabeth of Bourbon Bar & Grill. Individuals who are interested in Rotary or Rotary Means Business may visit http://www.rotaryclubofhanoverpa.org/ or search Hanover PA Rotary on Facebook. The Rotary Club of Hanover has been serving the area since 1936. One of the purposes of the new initiative is for Rotarians to strengthen the community. The club provides members with the opportunity to give back to their town\, contribute to local activities\, and develop the local social and ecological infrastructure.
X-ALT-DESC;FMTTYPE=text/html:Grow your business by attending the Rotary Club of Hanover district-wide Rotary Means Business event. The event is open to all Rotary Members and nonmembers (guests of Rotarians) interested in growing their business and helping the community. Attendees will be able to meet local business and Rotary representatives of southcentral Pennsylvania. The Rotary Clubs are in District 7390 with 25 to 50 business and professional classifications. During the evening\, all guests will have an opportunity to speak briefly about their business or organization and meet other guests through less-structured networking. Refreshments will include hors d&rsquo\;oeuvres and drinks provided by Bourbon Bar &amp\; Grill. The event is being sponsored by Nichole Elizabeth of Bourbon Bar &amp\; Grill. Individuals who are interested in Rotary or Rotary Means Business may visit http://www.rotaryclubofhanoverpa.org/ or search Hanover PA Rotary on Facebook. The Rotary Club of Hanover has been serving the area since 1936. One of the purposes of the new initiative is for Rotarians to strengthen the community. The club provides members with the opportunity to give back to their town\, contribute to local activities\, and develop the local social and ecological infrastructure.
LOCATION:Bourbon Bar & Grill\, 1080 Carlisle Street Hanover\, PA
UID:e.1500.2510
SEQUENCE:3
DTSTAMP:20260421T184822Z
URL:https://business.mainstreethanover.org/events/details/business-networking-event-sponsored-by-the-rotary-club-of-hanover-2510
END:VEVENT

END:VCALENDAR
