BEGIN:VCALENDAR
VERSION:2.0
PRODID:-//ChamberMaster//Event Calendar 2.0//EN
METHOD:PUBLISH
X-PUBLISHED-TTL:P3D
REFRESH-INTERVAL:P3D
CALSCALE:GREGORIAN
BEGIN:VEVENT
DTSTART:20170501T113000Z
DTEND:20170501T113000Z
X-MICROSOFT-CDO-ALLDAYEVENT:FALSE
SUMMARY:Business Over Breakfast
DESCRIPTION:Business owners in the 169th District are invited to attend\n\nRep. Klunk's Business Over Breakfast\, an informal gathering to\n\ndiscuss issues affecting the business community.
X-ALT-DESC;FMTTYPE=text/html:Business owners in the 169th District are invited to attend<br />\nRep. Klunk&rsquo\;s Business Over Breakfast\, an informal gathering to<br />\ndiscuss issues affecting the business community.
LOCATION:Rep. Klunk's office: 118 Carlisle Street\, Suite 300 Hanover
UID:e.1500.2925
SEQUENCE:3
DTSTAMP:20260421T165855Z
URL:https://business.mainstreethanover.org/events/details/business-over-breakfast-2925
END:VEVENT

END:VCALENDAR
