BEGIN:VCALENDAR
VERSION:2.0
PRODID:-//ChamberMaster//Event Calendar 2.0//EN
METHOD:PUBLISH
X-PUBLISHED-TTL:P3D
REFRESH-INTERVAL:P3D
CALSCALE:GREGORIAN
BEGIN:VEVENT
DTSTART:20171210T200000Z
DTEND:20171210T220000Z
X-MICROSOFT-CDO-ALLDAYEVENT:FALSE
SUMMARY:CANCELED: St. Paul's Christmas Concert - Lyric Band of Hanover
DESCRIPTION:This event has been canceled.\n\nLyric Band of Hanover Christmas Concert
X-ALT-DESC;FMTTYPE=text/html:This event has been canceled.<br />\nLyric Band of Hanover Christmas Concert
LOCATION:St. Paul's Lutheran Church 127 York St. Hanover\, PA 17331 Parking is in the rear of the church on Middle Street (Handicap accessible)
UID:e.1500.3096
SEQUENCE:3
DTSTAMP:20260421T060227Z
URL:https://business.mainstreethanover.org/events/details/canceled-st-paul-s-christmas-concert-lyric-band-of-hanover-3096
END:VEVENT

END:VCALENDAR
