BEGIN:VCALENDAR
VERSION:2.0
PRODID:-//ChamberMaster//Event Calendar 2.0//EN
METHOD:PUBLISH
X-PUBLISHED-TTL:P3D
REFRESH-INTERVAL:P3D
CALSCALE:GREGORIAN
BEGIN:VEVENT
DTSTART:20181115T210000Z
DTEND:20181115T230000Z
X-MICROSOFT-CDO-ALLDAYEVENT:FALSE
SUMMARY:*CANCELLED* Olivia's House Ribbon Cutting/Open House
DESCRIPTION:CANCELLED DUE TO INCLEMENT WEATHER!
X-ALT-DESC;FMTTYPE=text/html:<strong>CANCELLED DUE TO INCLEMENT WEATHER!</strong>
LOCATION:
UID:e.1500.4322
SEQUENCE:3
DTSTAMP:20260420T115243Z
URL:https://business.mainstreethanover.org/events/details/cancelled-olivia-s-house-ribbon-cutting-open-house-4322
END:VEVENT

END:VCALENDAR
