BEGIN:VCALENDAR
VERSION:2.0
PRODID:-//ChamberMaster//Event Calendar 2.0//EN
METHOD:PUBLISH
X-PUBLISHED-TTL:P3D
REFRESH-INTERVAL:P3D
CALSCALE:GREGORIAN
BEGIN:VEVENT
DTSTART:20180112T130000Z
DTEND:20180112T150000Z
X-MICROSOFT-CDO-ALLDAYEVENT:FALSE
SUMMARY:CANCELLED Seminar: Health and Wellness presented by Riley Welding & Fabricating\, LLC\, 1/12/18
DESCRIPTION:Presented by Jim Sponaugle \n\n\n\nDo you ever feel sluggish during the work day?  \n\nHow we eat has a profound effect on our energy management.  The reality is many of us simply eat too infrequently\, too little\, or too much throughout the day\, significantly impacting the way we feel.\n\nLearn techniques to maximize your Energy.  Easy to implement concepts that can be applied to your daily routine.
X-ALT-DESC;FMTTYPE=text/html:Presented by Jim Sponaugle&nbsp\;<br />\n<br />\n<span style="color:#1F497D\;">Do you ever feel sluggish during the work day?&nbsp\; </span><br />\n<span style="color:#1F497D\;">How we eat has a profound effect on our energy management.&nbsp\; The reality is many of us simply eat too infrequently\, too little\, or too much throughout the day\, significantly impacting the way we feel.</span><br />\n<span style="color:#1F497D\;">Learn techniques to maximize your Energy.&nbsp\; Easy to implement concepts that can be applied to your daily routine.</span><br />\n&nbsp\;
LOCATION:Hanover Area Chamber of Commerce - Large Conference Room 146 Carlisle Street Hanover\, PA 17331
UID:e.1500.3069
SEQUENCE:3
DTSTAMP:20260421T042532Z
URL:https://business.mainstreethanover.org/events/details/cancelled-seminar-health-and-wellness-presented-by-riley-welding-fabricating-llc-1-12-18-3069
END:VEVENT

END:VCALENDAR
