BEGIN:VCALENDAR
VERSION:2.0
PRODID:-//ChamberMaster//Event Calendar 2.0//EN
METHOD:PUBLISH
X-PUBLISHED-TTL:P3D
REFRESH-INTERVAL:P3D
CALSCALE:GREGORIAN
BEGIN:VEVENT
DTSTART:20180424T130000Z
DTEND:20180424T140000Z
X-MICROSOFT-CDO-ALLDAYEVENT:FALSE
SUMMARY:CANCELLED: Seminar presented by OSS Health\, Dr. Hess
DESCRIPTION:"Never Let Pain Steal Your Passion"\n\n\n\nCome join OSS Health\, Dr. Bryan Hess\, and learn how to prevent injuries that occur while playing sports like golf and tennis!\n\n\n\nSchedule
X-ALT-DESC;FMTTYPE=text/html:&quot\;Never Let Pain Steal Your Passion&quot\;<br />\n<br />\nCome join OSS Health\, Dr. Bryan Hess\, and learn how to prevent injuries that occur while playing sports like golf and tennis!<br />\n<br />\n<button id="tw_schedule_btn" style="padding: 4px 6px\; position: absolute\; left: 141px\; top: 840px\; background-image: linear-gradient(rgb(255\, 255\, 255)\, rgb(240\, 240\, 240))\; border: 1px solid rgb(204\, 204\, 204)\; color: rgb(95\, 95\, 95)\; cursor: pointer\; font-weight: bold\; text-shadow: rgb(255\, 255\, 255) 0px 1px\; white-space: nowrap\; border-top-left-radius: 3px\; border-top-right-radius: 3px\; border-bottom-right-radius: 3px\; border-bottom-left-radius: 3px\; font-size: 11px\; z-index: 8675309\; display: none\; background-position: initial initial\; background-repeat: initial initial\;"><span>Schedule</span></button>
LOCATION:Hanover Area Chamber of Commerce - Large Conference Room 146 Carlisle Street Hanover\, PA 17331Schedule
UID:e.1500.4137
SEQUENCE:3
DTSTAMP:20260420T234018Z
URL:https://business.mainstreethanover.org/events/details/cancelled-seminar-presented-by-oss-health-dr-hess-4137
END:VEVENT

END:VCALENDAR
