BEGIN:VCALENDAR
VERSION:2.0
PRODID:-//ChamberMaster//Event Calendar 2.0//EN
METHOD:PUBLISH
X-PUBLISHED-TTL:P3D
REFRESH-INTERVAL:P3D
CALSCALE:GREGORIAN
BEGIN:VEVENT
DTSTART:20150826T120000Z
DTEND:20150826T130000Z
X-MICROSOFT-CDO-ALLDAYEVENT:FALSE
SUMMARY:Career Mobility: Talent Management Workshop
DESCRIPTION:Hiring & On-boarding: Best Practices & Tips\n\n\n\nDid you know that job seekers that respond to your job posting represent only 20% of available talent? Learn how to find the RIGHT employees that fit your job\, your culture and your performance objectives from day one and beyond. We'll share essential steps to sourcing\, screening\, on-boarding and assimilating the right talent for your organization.
X-ALT-DESC;FMTTYPE=text/html:<br />\n<strong><span style="font-family:lucida bright\,serif\;">Hiring &amp\; On-boarding: Best Practices &amp\; Tips</span></strong><br />\n<br />\n<span style="font-family:lucida bright\,serif\;">Did you know that job seekers that respond to your job posting represent only 20% of available talent? Learn how to find the RIGHT employees that fit your job\, your culture and your performance objectives from day one and beyond. We&rsquo\;ll share essential steps to sourcing\, screening\, on-boarding and assimilating the right talent for your organization.</span>
LOCATION:Hanover Chamber of Commerce Office 146 Carlisle Street Hanover\, PA 17331
UID:e.1500.946
SEQUENCE:3
DTSTAMP:20260423T005144Z
URL:https://business.mainstreethanover.org/events/details/career-mobility-talent-management-workshop-08-26-2015-946
END:VEVENT

END:VCALENDAR
