BEGIN:VCALENDAR
VERSION:2.0
PRODID:-//ChamberMaster//Event Calendar 2.0//EN
METHOD:PUBLISH
X-PUBLISHED-TTL:P3D
REFRESH-INTERVAL:P3D
CALSCALE:GREGORIAN
BEGIN:VEVENT
DTSTART:20150923T120000Z
DTEND:20150923T130000Z
X-MICROSOFT-CDO-ALLDAYEVENT:FALSE
SUMMARY:Career Mobility: Talent Management Workshop
DESCRIPTION:Leading the Multi-Generational Workforce\n\n\n\nIn 2020\, Millennials will comprise 50% of the workforce\, and in 10 years\, they will be the majority of your employees. Do you know and understand what makes them tick? Learn the differences between the generations\, how to find common ground\, and best manage and lead across the generations to keep your workforce productive and meeting business goals for the future.
X-ALT-DESC;FMTTYPE=text/html:<br />\n<strong><span style="font-family:lucida bright\,serif\;">Leading the Multi-Generational Workforce</span></strong><br />\n<br />\n<span style="font-family:lucida bright\,serif\;">In 2020\, Millennials will comprise 50% of the workforce\, and in 10 years\, they will be the majority of your employees. Do you know and understand what makes them tick? Learn the differences between the generations\, how to find common ground\, and best manage and lead across the generations to keep your workforce productive and meeting business goals for the future.</span>
LOCATION:Hanover Chamber of Commerce Office 146 Carlisle Street Hanover\, PA 17331
UID:e.1500.947
SEQUENCE:3
DTSTAMP:20260422T231527Z
URL:https://business.mainstreethanover.org/events/details/career-mobility-talent-management-workshop-09-23-2015-947
END:VEVENT

END:VCALENDAR
