BEGIN:VCALENDAR
VERSION:2.0
PRODID:-//ChamberMaster//Event Calendar 2.0//EN
METHOD:PUBLISH
X-PUBLISHED-TTL:P3D
REFRESH-INTERVAL:P3D
CALSCALE:GREGORIAN
BEGIN:VEVENT
DTSTART:20151028T120000Z
DTEND:20151028T130000Z
X-MICROSOFT-CDO-ALLDAYEVENT:FALSE
SUMMARY:Career Mobility: Talent Management Workshop
DESCRIPTION:Career Conversations: An Employee Engagement Strategy\n\n\n\nThe #1 reason employees leave a job: a bad boss. The #2 reason is lack of career opportunities. No matter your organizational structure\, discussing employee development through career conversations is an essential engagement tool in today's workplace. Learn how to play to employee strengths and interests to grow your bottom line and increase job satisfaction.
X-ALT-DESC;FMTTYPE=text/html:<strong><span style="font-family:lucida bright\,serif\;">Career Conversations: An Employee Engagement Strategy</span></strong><br />\n<br />\n<span style="font-family:lucida bright\,serif\;">The #1 reason employees leave a job: a bad boss. The #2 reason is lack of career opportunities. No matter your organizational structure\, discussing employee development through career conversations is an essential engagement tool in today&rsquo\;s workplace. Learn how to play to employee strengths and interests to grow your bottom line and increase job satisfaction.</span>
LOCATION:Hanover Chamber of Commerce Office 146 Carlisle Street Hanover\, PA 17331
UID:e.1500.949
SEQUENCE:3
DTSTAMP:20260422T214702Z
URL:https://business.mainstreethanover.org/events/details/career-mobility-talent-management-workshop-10-28-2015-949
END:VEVENT

END:VCALENDAR
